BEGIN:VCALENDAR
VERSION:2.0
PRODID:-//TraMe Arte di Beschi Chiara - ECPv6.15.20//NONSGML v1.0//EN
CALSCALE:GREGORIAN
METHOD:PUBLISH
X-WR-CALNAME:TraMe Arte di Beschi Chiara
X-ORIGINAL-URL:https://www.tramearte.it
X-WR-CALDESC:Eventi per TraMe Arte di Beschi Chiara
REFRESH-INTERVAL;VALUE=DURATION:PT1H
X-Robots-Tag:noindex
X-PUBLISHED-TTL:PT1H
BEGIN:VTIMEZONE
TZID:Europe/Rome
BEGIN:DAYLIGHT
TZOFFSETFROM:+0100
TZOFFSETTO:+0200
TZNAME:CEST
DTSTART:20210328T010000
END:DAYLIGHT
BEGIN:STANDARD
TZOFFSETFROM:+0200
TZOFFSETTO:+0100
TZNAME:CET
DTSTART:20211031T010000
END:STANDARD
BEGIN:DAYLIGHT
TZOFFSETFROM:+0100
TZOFFSETTO:+0200
TZNAME:CEST
DTSTART:20220327T010000
END:DAYLIGHT
BEGIN:STANDARD
TZOFFSETFROM:+0200
TZOFFSETTO:+0100
TZNAME:CET
DTSTART:20221030T010000
END:STANDARD
BEGIN:DAYLIGHT
TZOFFSETFROM:+0100
TZOFFSETTO:+0200
TZNAME:CEST
DTSTART:20230326T010000
END:DAYLIGHT
BEGIN:STANDARD
TZOFFSETFROM:+0200
TZOFFSETTO:+0100
TZNAME:CET
DTSTART:20231029T010000
END:STANDARD
BEGIN:DAYLIGHT
TZOFFSETFROM:+0100
TZOFFSETTO:+0200
TZNAME:CEST
DTSTART:20240331T010000
END:DAYLIGHT
BEGIN:STANDARD
TZOFFSETFROM:+0200
TZOFFSETTO:+0100
TZNAME:CET
DTSTART:20241027T010000
END:STANDARD
BEGIN:DAYLIGHT
TZOFFSETFROM:+0100
TZOFFSETTO:+0200
TZNAME:CEST
DTSTART:20250330T010000
END:DAYLIGHT
BEGIN:STANDARD
TZOFFSETFROM:+0200
TZOFFSETTO:+0100
TZNAME:CET
DTSTART:20251026T010000
END:STANDARD
END:VTIMEZONE
BEGIN:VEVENT
DTSTART;TZID=Europe/Rome:20241106T200000
DTEND;TZID=Europe/Rome:20241120T220000
DTSTAMP:20260421T001754
CREATED:20241015T074937Z
LAST-MODIFIED:20241015T075116Z
UID:26487-1730923200-1732140000@www.tramearte.it
SUMMARY:Corso Aquerello Base
DESCRIPTION:Il corso si sviluppa in 3 incontri da 2 ore ciascuno: \n\nMercoledì 6 novembre\nMercoledì 13 novembre\nMercoledì 20 novembre\n\n3 incontri per iniziare a conoscere questa meravigliosa tecnica \n1° incontro\n– La tecnica e i materiali\n– Come usare i colori \n2° incontro\n– Le diverse modalità di stesura dell’acquerello \n3° incontro\n– Argomento di apprendimento \nIl materiale è compreso nel costo.
URL:https://www.tramearte.it/iscrizione-corso/corso-aquerello-base/
LOCATION:La Bottega di TraMe Arte\, via Nicolò Tommaseo\, 30/32\, Brescia\, 25128\, Italia
CATEGORIES:Acquerello
ATTACH;FMTTYPE=image/jpeg:https://www.tramearte.it/wp-content/uploads/2022/03/to-dye-g92c2e6bc0_1280.jpg
ORGANIZER;CN="TraMe Arte":MAILTO:trameartebrescia@gmail.com
END:VEVENT
BEGIN:VEVENT
DTSTART;TZID=Europe/Rome:20231122T201500
DTEND;TZID=Europe/Rome:20231122T221500
DTSTAMP:20260421T001754
CREATED:20230723T191715Z
LAST-MODIFIED:20230807T095538Z
UID:25232-1700684100-1700691300@www.tramearte.it
SUMMARY:Corso di Acquerello - Livello intermedio
DESCRIPTION:Il corso è pensato per chi ha già avuto un primo approccio con la tecnica della pittura ad acquerello\, per chi ha già un pò di familiarità con colori e pennelli e desidera approfondire la propria abilità e curiosità. \nIl corso ci permetterà di scoprire diversi modalità di utilizzare il colore e sfruttare al meglio la bellezza di questa tecnica. Ci saranno esercizi di sperimentazione e composizione. \nSarà un percorso interessante e divertente per scoprire i segreti dell’acquerello e come applicare al meglio la tecnica. \nIl corso si sviluppa in 3 incontri da 2h ciascuno. \nNel costo è compreso il materiale.
URL:https://www.tramearte.it/iscrizione-corso/corso-di-acquerello-livello-intermedio-3/
LOCATION:La Bottega di TraMe Arte\, via Nicolò Tommaseo\, 30/32\, Brescia\, 25128\, Italia
CATEGORIES:Acquerello,Pittura
ATTACH;FMTTYPE=image/jpeg:https://www.tramearte.it/wp-content/uploads/2022/02/img-corso1.jpg
ORGANIZER;CN="TraMe Arte":MAILTO:trameartebrescia@gmail.com
END:VEVENT
BEGIN:VEVENT
DTSTART;TZID=Europe/Rome:20231018T201500
DTEND;TZID=Europe/Rome:20231108T221500
DTSTAMP:20260421T001754
CREATED:20230722T151502Z
LAST-MODIFIED:20230807T095709Z
UID:25172-1697660100-1699481700@www.tramearte.it
SUMMARY:Acquerello Base
DESCRIPTION:Il corso si sviluppa in 3 incontri da 2 ore ciascuno: \n📌1° incontro\n– La tecnica e i materiali\n– Come usare i colori \n📌2° incontro\n– Le diverse modalità di stesura dell’acquerello \n📌3° incontro\n– Argomento di apprendimento \nIl corso è rivolto a chiunque voglia iniziare a conoscere questa meravigliosa tecnica\, le basi e i segreti per gestire acqua e colore. \nIl materiale è compreso nel costo.
URL:https://www.tramearte.it/iscrizione-corso/corso-acquerello-base/
LOCATION:La Bottega di TraMe Arte\, via Nicolò Tommaseo\, 30/32\, Brescia\, 25128\, Italia
CATEGORIES:Acquerello
ATTACH;FMTTYPE=image/jpeg:https://www.tramearte.it/wp-content/uploads/2022/03/to-dye-g92c2e6bc0_1280.jpg
ORGANIZER;CN="TraMe Arte":MAILTO:trameartebrescia@gmail.com
END:VEVENT
BEGIN:VEVENT
DTSTART;TZID=Europe/Rome:20230419T201500
DTEND;TZID=Europe/Rome:20230419T221500
DTSTAMP:20260421T001754
CREATED:20230320T202512Z
LAST-MODIFIED:20230320T202837Z
UID:25100-1681935300-1681942500@www.tramearte.it
SUMMARY:Corso di Acquerello - Livello intermedio
DESCRIPTION:Il corso è pensato per chi ha già avuto un primo approccio con la tecnica della pittura ad acquerello\, per chi ha già un pò di familiarità con colori e pennelli e desidera approfondire la propria abilità e curiosità. \nIl corso ci permetterà di scoprire diversi modalità di utilizzare il colore e sfruttare al meglio la bellezza di questa tecnica. Ci saranno esercizi di sperimentazione e composizione. \nSarà un percorso interessante e divertente per scoprire i segreti dell’acquerello e come applicare al meglio la tecnica. \nIl corso si sviluppa in 3 incontri da 2h ciascuno. \nMercoledì 19 aprile\nMercoledì 26 aprile\nMercoledì 3 maggio \nNel costo è compreso il materiale.
URL:https://www.tramearte.it/iscrizione-corso/corso-di-acquerello-livello-intermedio-2/
LOCATION:La Bottega di TraMe Arte\, via Nicolò Tommaseo\, 30/32\, Brescia\, 25128\, Italia
CATEGORIES:Acquerello,Pittura
ATTACH;FMTTYPE=image/jpeg:https://www.tramearte.it/wp-content/uploads/2022/02/img-corso1.jpg
ORGANIZER;CN="TraMe Arte":MAILTO:trameartebrescia@gmail.com
END:VEVENT
BEGIN:VEVENT
DTSTART;TZID=Europe/Rome:20230325T150000
DTEND;TZID=Europe/Rome:20230325T170000
DTSTAMP:20260421T001754
CREATED:20230109T151520Z
LAST-MODIFIED:20230109T151520Z
UID:24745-1679756400-1679763600@www.tramearte.it
SUMMARY:Workshop Acquerello Botanico
DESCRIPTION:Workshop dedicato all’acquerello botanico. \nSarà un pomeriggio creativo per eseguire illustrazioni botaniche ad acquerello\, prendendo come modello fiori e piante. \nDedicato a chi già conosce le basi della tecnica e desidera approfondire un tema davvero affascinante. \n  \nNel costo del corso sono compresi i fogli e i pennelli.\nSi richiede l’utilizzo del proprio set colori.
URL:https://www.tramearte.it/iscrizione-corso/workshop-acquerello-botanico/
LOCATION:La Bottega di TraMe Arte\, via Nicolò Tommaseo\, 30/32\, Brescia\, 25128\, Italia
CATEGORIES:Acquerello
ATTACH;FMTTYPE=image/jpeg:https://www.tramearte.it/wp-content/uploads/2023/01/AD4C88F9-9C4E-4840-95CC-C015C026E973-e1673276960700.jpeg
ORGANIZER;CN="TraMe Arte":MAILTO:trameartebrescia@gmail.com
END:VEVENT
BEGIN:VEVENT
DTSTART;TZID=Europe/Rome:20230222T200000
DTEND;TZID=Europe/Rome:20230222T220000
DTSTAMP:20260421T001754
CREATED:20230109T113642Z
LAST-MODIFIED:20230109T113642Z
UID:24743-1677096000-1677103200@www.tramearte.it
SUMMARY:Corso Acquerello - Livello base
DESCRIPTION:Il corso si sviluppa in 3 incontri da 2 ore ciascuno: \n\nMercoledì 22 febbraio\nMercoledì 1 marzo\nMercoledì 8 marzo\n\n3 incontri per iniziare a conoscere questa meravigliosa tecnica \n📌1° incontro\n– La tecnica e i materiali\n– Come usare i colori \n📌2° incontro\n– Le diverse modalità di stesura dell’acquerello \n📌3° incontro\n– Argomento di apprendimento \nIl materiale è compreso nel costo.
URL:https://www.tramearte.it/iscrizione-corso/coeso-acquerello-base/
LOCATION:La Bottega di TraMe Arte\, via Nicolò Tommaseo\, 30/32\, Brescia\, 25128\, Italia
CATEGORIES:Acquerello
ATTACH;FMTTYPE=image/jpeg:https://www.tramearte.it/wp-content/uploads/2022/03/to-dye-g92c2e6bc0_1280.jpg
ORGANIZER;CN="TraMe Arte":MAILTO:trameartebrescia@gmail.com
END:VEVENT
BEGIN:VEVENT
DTSTART;TZID=Europe/Rome:20221102T200000
DTEND;TZID=Europe/Rome:20221102T220000
DTSTAMP:20260421T001754
CREATED:20221024T133457Z
LAST-MODIFIED:20221024T133457Z
UID:24627-1667419200-1667426400@www.tramearte.it
SUMMARY:Corso di acquerello - Livello intermedio
DESCRIPTION:Il corso è pensato per chi ha già avuto un primo approccio con la tecnica della pittura ad acquerello\, per chi ha già un pò di familiarità con colori e pennelli e desidera approfondire la propria abilità e curiosità. \n  \nNel costo è compreso il materiale.
URL:https://www.tramearte.it/iscrizione-corso/corso-di-acquerello-livello-intermedio/
LOCATION:La Bottega di TraMe Arte\, via Nicolò Tommaseo\, 30/32\, Brescia\, 25128\, Italia
CATEGORIES:Acquerello
ATTACH;FMTTYPE=image/jpeg:https://www.tramearte.it/wp-content/uploads/2022/02/img-corso1.jpg
ORGANIZER;CN="TraMe Arte":MAILTO:trameartebrescia@gmail.com
END:VEVENT
BEGIN:VEVENT
DTSTART;TZID=Europe/Rome:20221029T150000
DTEND;TZID=Europe/Rome:20221029T160000
DTSTAMP:20260421T001754
CREATED:20220917T104419Z
LAST-MODIFIED:20221007T130140Z
UID:24571-1667055600-1667059200@www.tramearte.it
SUMMARY:ACQUERELLO PER BAMBINI – speciale Halloween ORE 15-16
DESCRIPTION:Laboratorio di acquerello per bambini dai 3 ai 12 anni per imparare giocando ad utilizzare questa bellissima tecnica pittorica. \nTema dell’incontro: MACCHIE MOSTRUOSE! \nMateriali saranno forniti da TraMe Arte e sono compresi nel costo del laboratorio.\nSi consiglia l’uso di un grembiule. \nN.B. Per i bambini dai 3 ai 6 anni è richiesta la presenza di un adulto.
URL:https://www.tramearte.it/iscrizione-corso/laboratorio-acquerello-bambini/
LOCATION:La Bottega di TraMe Arte\, via Nicolò Tommaseo\, 30/32\, Brescia\, 25128\, Italia
CATEGORIES:Acquerello,Bambini e Famiglie
ATTACH;FMTTYPE=image/jpeg:https://www.tramearte.it/wp-content/uploads/2022/09/749960D6-2DCA-40E1-A669-B478DBFC9C02.jpeg
ORGANIZER;CN="TraMe Arte":MAILTO:trameartebrescia@gmail.com
END:VEVENT
BEGIN:VEVENT
DTSTART;TZID=Europe/Rome:20221029T100000
DTEND;TZID=Europe/Rome:20221029T110000
DTSTAMP:20260421T001754
CREATED:20220917T103815Z
LAST-MODIFIED:20221024T135219Z
UID:24416-1667037600-1667041200@www.tramearte.it
SUMMARY:Acquerello per Bambini - speciale Halloween ore 10-11
DESCRIPTION:Laboratorio di acquerello per bambini dai 3 ai 12 anni per imparare giocando ad utilizzare questa bellissima tecnica pittorica. \nTema dell’incontro: MACCHIE MOSTRUOSE! \nMateriali saranno forniti da TraMe Arte e sono compresi nel costo del laboratorio.\nSi consiglia l’uso di un grembiule. \nN.B. Per i bambini dai 3 ai 6 anni è richiesta la presenza di un adulto.
URL:https://www.tramearte.it/iscrizione-corso/acquerello-per-bambini-2/
LOCATION:La Bottega di TraMe Arte\, via Nicolò Tommaseo\, 30/32\, Brescia\, 25128\, Italia
CATEGORIES:Acquerello,Bambini e Famiglie
ATTACH;FMTTYPE=image/jpeg:https://www.tramearte.it/wp-content/uploads/2022/09/749960D6-2DCA-40E1-A669-B478DBFC9C02.jpeg
ORGANIZER;CN="TraMe Arte":MAILTO:trameartebrescia@gmail.com
END:VEVENT
BEGIN:VEVENT
DTSTART;TZID=Europe/Rome:20220926T201500
DTEND;TZID=Europe/Rome:20221010T221500
DTSTAMP:20260421T001754
CREATED:20220301T110052Z
LAST-MODIFIED:20220906T161415Z
UID:23849-1664223300-1665440100@www.tramearte.it
SUMMARY:Corso di acquerello - livello Base
DESCRIPTION:Il corso si sviluppa in 3 incontri da 2 ore ciascuno: \n\nLunedi 26 settembre\nLunedì 3 ottobre\nLunedì 10 ottobre\n\n3 incontri per iniziare a conoscere questa meravigliosa tecnica \n📌1° incontro\n– La tecnica e i materiali\n– Come usare i colori \n📌2° incontro\n– Le diverse modalità di stesura dell’acquerello \n📌3° incontro\n– L’acquerello botanico \nIl materiale è compreso nel costo. \n  \n 
URL:https://www.tramearte.it/iscrizione-corso/corso-di-acquerello-livello-base/
LOCATION:La Bottega di TraMe Arte\, via Nicolò Tommaseo\, 30/32\, Brescia\, 25128\, Italia
CATEGORIES:Acquerello
ATTACH;FMTTYPE=image/jpeg:https://www.tramearte.it/wp-content/uploads/2022/03/to-dye-g92c2e6bc0_1280.jpg
ORGANIZER;CN="TraMe Arte":MAILTO:trameartebrescia@gmail.com
END:VEVENT
BEGIN:VEVENT
DTSTART;TZID=Europe/Rome:20220910T143000
DTEND;TZID=Europe/Rome:20220910T153000
DTSTAMP:20260421T001754
CREATED:20220822T090151Z
LAST-MODIFIED:20220822T090151Z
UID:24436-1662820200-1662823800@www.tramearte.it
SUMMARY:Acquerello per bambini - ore 14.30-15.30
DESCRIPTION:Laboratorio di acquerello per bambini dai 3 ai 12 anni per imparare giocando ad utilizzare questa bellissima tecnica pittorica. \nPer ogni incontro verrà realizzato un progetto diverso. \nMateriali saranno forniti da TraMe Arte e sono compresi nel costo del laboratorio.\nSi consiglia l’uso di un grembiule. \nN.B. Per i bambini dai 3 ai 6 anni è richiesta la presenza di un adulto. \n 
URL:https://www.tramearte.it/iscrizione-corso/laboratorio-di-acquerello-per-bambini/
LOCATION:La Bottega di TraMe Arte\, via Nicolò Tommaseo\, 30/32\, Brescia\, 25128\, Italia
CATEGORIES:Acquerello,Bambini e Famiglie
ATTACH;FMTTYPE=image/jpeg:https://www.tramearte.it/wp-content/uploads/2022/03/bambino-che-disegna.jpeg
ORGANIZER;CN="TraMe Arte":MAILTO:trameartebrescia@gmail.com
END:VEVENT
BEGIN:VEVENT
DTSTART;TZID=Europe/Rome:20220910T100000
DTEND;TZID=Europe/Rome:20220910T110000
DTSTAMP:20260421T001754
CREATED:20220820T160048Z
LAST-MODIFIED:20220822T085819Z
UID:24433-1662804000-1662807600@www.tramearte.it
SUMMARY:Acquerello per Bambini - ore 10-11
DESCRIPTION:Laboratorio di acquerello per bambini dai 3 ai 12 anni per imparare giocando ad utilizzare questa bellissima tecnica pittorica. \nPer ogni incontro verrà realizzato un progetto diverso. \nMateriali saranno forniti da TraMe Arte e sono compresi nel costo del laboratorio.\nSi consiglia l’uso di un grembiule. \nN.B. Per i bambini dai 3 ai 6 anni è richiesta la presenza di un adulto. \n 
URL:https://www.tramearte.it/iscrizione-corso/acquerello-per-bambini/
LOCATION:La Bottega di TraMe Arte\, via Nicolò Tommaseo\, 30/32\, Brescia\, 25128\, Italia
CATEGORIES:Acquerello,Bambini e Famiglie
ATTACH;FMTTYPE=image/jpeg:https://www.tramearte.it/wp-content/uploads/2022/03/bambino-che-disegna.jpeg
ORGANIZER;CN="TraMe Arte":MAILTO:trameartebrescia@gmail.com
END:VEVENT
END:VCALENDAR