BEGIN:VCALENDAR
VERSION:2.0
PRODID:-//TraMe Arte di Beschi Chiara - ECPv6.15.20//NONSGML v1.0//EN
CALSCALE:GREGORIAN
METHOD:PUBLISH
X-ORIGINAL-URL:https://www.tramearte.it
X-WR-CALDESC:Eventi per TraMe Arte di Beschi Chiara
REFRESH-INTERVAL;VALUE=DURATION:PT1H
X-Robots-Tag:noindex
X-PUBLISHED-TTL:PT1H
BEGIN:VTIMEZONE
TZID:Europe/Rome
BEGIN:DAYLIGHT
TZOFFSETFROM:+0100
TZOFFSETTO:+0200
TZNAME:CEST
DTSTART:20210328T010000
END:DAYLIGHT
BEGIN:STANDARD
TZOFFSETFROM:+0200
TZOFFSETTO:+0100
TZNAME:CET
DTSTART:20211031T010000
END:STANDARD
BEGIN:DAYLIGHT
TZOFFSETFROM:+0100
TZOFFSETTO:+0200
TZNAME:CEST
DTSTART:20220327T010000
END:DAYLIGHT
BEGIN:STANDARD
TZOFFSETFROM:+0200
TZOFFSETTO:+0100
TZNAME:CET
DTSTART:20221030T010000
END:STANDARD
BEGIN:DAYLIGHT
TZOFFSETFROM:+0100
TZOFFSETTO:+0200
TZNAME:CEST
DTSTART:20230326T010000
END:DAYLIGHT
BEGIN:STANDARD
TZOFFSETFROM:+0200
TZOFFSETTO:+0100
TZNAME:CET
DTSTART:20231029T010000
END:STANDARD
END:VTIMEZONE
BEGIN:VEVENT
DTSTART;TZID=Europe/Rome:20221217T170000
DTEND;TZID=Europe/Rome:20221217T183000
DTSTAMP:20260420T213008
CREATED:20220803T165335Z
LAST-MODIFIED:20220806T163014Z
UID:24353-1671296400-1671301800@www.tramearte.it
SUMMARY:L’ARTE DELLE CINQUE – ARTE – Berthe Morisot e gli impressionisti
DESCRIPTION:Artiste\, pittrici\, muse ispiratrici\, modelle. Quattro incontri per raccontare quattro donne capaci\, indomite\, coraggiose\, anticonformiste che hanno contribuito a scrivere la storia dell’arte. \n17 dicembre Berthe Morisot e gli impressionisti \nAppartenente alla corrente degli impressionisti\, Berthe Morisot fu una pittrice intelligente\, sensibile e ricettiva. Artista a tutto tondo -attraverso le sue opere- Berthe Morisot riuscì\, non senza difficoltà e fatica\, a farsi strada nel panorama artistico del suo tempo dominato interamente dagli uomini. \nScopri tutti gli appuntamenti in programma – L’arte delle cinque!
URL:https://www.tramearte.it/iscrizione-corso/larte-delle-cinque-arte-berthe-morisot-e-gli-impressionisti/
LOCATION:La Bottega di TraMe Arte\, via Nicolò Tommaseo\, 30/32\, Brescia\, 25128\, Italia
CATEGORIES:Arte delle Cinque
ORGANIZER;CN="TraMe Arte":MAILTO:trameartebrescia@gmail.com
END:VEVENT
BEGIN:VEVENT
DTSTART;TZID=Europe/Rome:20221210T170000
DTEND;TZID=Europe/Rome:20221210T183000
DTSTAMP:20260420T213008
CREATED:20220805T071114Z
LAST-MODIFIED:20220805T071156Z
UID:24384-1670691600-1670697000@www.tramearte.it
SUMMARY:L’arte delle cinque - I Tesori di Brescia - La Rotonda
DESCRIPTION:Il Duomo vecchio condivide la stessa titolazione del Duomo Nuovo\, quella a S. Maria Assunta ma perché la nostra città ha due duomi? E cos’è cambiato rispetto alla forma originale? Da sempre legato alla vita dei bresciani\, tra i quali molti illustri\, la Rotonda è uno scrigno di tesori a portata di sguardo: dalla cripta di S. Filastrio\, al Tesoro delle Sante Croci fino agli affreschi di Romanino per secoli nascosti dietro l’organo Antegnati.\n\n\n\nScopri il programma completo\nL’arte delle cinque 
URL:https://www.tramearte.it/iscrizione-corso/la-rotonda-di-brescia/
LOCATION:La Bottega di TraMe Arte\, via Nicolò Tommaseo\, 30/32\, Brescia\, 25128\, Italia
CATEGORIES:Arte delle Cinque
ORGANIZER;CN="TraMe Arte":MAILTO:trameartebrescia@gmail.com
END:VEVENT
BEGIN:VEVENT
DTSTART;TZID=Europe/Rome:20221203T170000
DTEND;TZID=Europe/Rome:20221203T183000
DTSTAMP:20260420T213008
CREATED:20220701T153305Z
LAST-MODIFIED:20220806T163516Z
UID:24318-1670086800-1670092200@www.tramearte.it
SUMMARY:L’ARTE DELLE CINQUE - FOTOGRAFIA - BERENICE ABBOTT/LEE MILLER/ MAN RAY
DESCRIPTION:Incontri dedicati ai grandi fotografi del ‘900 e le donne che sono diventate a loro volta importanti protagoniste della storia della fotografia.\n \nsabato 3 dicembre: BERENICE ABBOTT/LEE MILLER/ MAN RAY\n \nLui tra i più geniali e sperimentatori artisti delle avanguardie\, circondato da bellissime donne\, avrà come assistenti fotografe due donne che lasceranno il segno nella storia della fotografia: Berenice Abbott diventerà una delle maggiori esponenti della fotografia diretta e Lee Miller diventerà una acclamata corrispondente di guerra durante la Seconda Guerra Mondiale. \nDocente: Luisa Bondoni \nStorica dell’arte e storica e critica della fotografia\,si laurea nel 2006 in Conservazione dei Beni Culturali presso l’Università di Parma\, con una tesi in storia della fotografia. Nel 2004 inizia la sua collaborazione con il Museo Nazionale della Fotografia di Brescia di cui oggi è la curatrice\, occupandosi dell’archiviazione\, catalogazione e conservazione del patrimoni e dell’organizzazione di mostre ed eventi. \nDocente di Storia della Fotografia I-II nel master post universitario di primo livello Archivi fotografici presso l’Università degli Studi di Trieste. \nRealizza conferenze\, corsi\, seminari e workshop dedicati alla cultura fotografica\, profondamente convinta che per essere fotografi serva consapevolezza e curiosità su quella che è la storia fotografica passata e contemporanea. E’ lettrice portfolio in vari festival e manifestazioni. Ha tenuto conferenze in occasione di importanti eventi come il \nMilano Photofestival\, il Festival della Fotografia Etica e Phototrace. \nE’ curatrice di mostre e scrive testi critici per cataloghi.  \nI suoi testi sono pubblicati su numerosi cataloghi fotografici ed attualmente è Delegata Provinciale FIAF per Brescia e collabora con la rivista Fotoit. Contribuisce come giurata in concorsi fotografici nazionali. \n  \nL’arte delle cinque è molto altro! \nScopri tutti gli appuntamenti in programma – L’arte delle cinque!
URL:https://www.tramearte.it/iscrizione-corso/arte-delle-cinque-fotografia/
LOCATION:La Bottega di TraMe Arte\, via Nicolò Tommaseo\, 30/32\, Brescia\, 25128\, Italia
CATEGORIES:Arte delle Cinque
ORGANIZER;CN="TraMe Arte":MAILTO:trameartebrescia@gmail.com
END:VEVENT
BEGIN:VEVENT
DTSTART;TZID=Europe/Rome:20221119T170000
DTEND;TZID=Europe/Rome:20221119T183000
DTSTAMP:20260420T213008
CREATED:20220803T164859Z
LAST-MODIFIED:20220806T164004Z
UID:24349-1668877200-1668882600@www.tramearte.it
SUMMARY:L’ARTE DELLE CINQUE – Arte – Marie Spartali e i preraffaeliti
DESCRIPTION:Artiste\, pittrici\, muse ispiratrici\, modelle. Quattro incontri per raccontare quattro donne capaci\, indomite\, coraggiose\, anticonformiste che hanno contribuito a scrivere la storia dell’arte. \n19 novembre: Marie Spartali artista\, modella e musa ispiratrice della corrente preraffaellita \nModella\, musa ispiratrice e pittrice essa stessa della corrente preraffaellita\, Marie Spartali fu un’artista controcorrente e tenace\, in grado di influenzare a vario titolo l’arte del suo tempo. \nScopri tutti gli appuntamenti in programmi. Pittura\, Fotografia e Cultura! \nProgramma completo
URL:https://www.tramearte.it/iscrizione-corso/larte-delle-cinque-arte-marie-spartali-e-i-preraffaeliti/
LOCATION:La Bottega di TraMe Arte\, via Nicolò Tommaseo\, 30/32\, Brescia\, 25128\, Italia
CATEGORIES:Arte delle Cinque
ORGANIZER;CN="TraMe Arte":MAILTO:trameartebrescia@gmail.com
END:VEVENT
BEGIN:VEVENT
DTSTART;TZID=Europe/Rome:20221112T170000
DTEND;TZID=Europe/Rome:20221112T183000
DTSTAMP:20260420T213008
CREATED:20220805T065604Z
LAST-MODIFIED:20220805T065749Z
UID:24381-1668272400-1668277800@www.tramearte.it
SUMMARY:L’arte delle cinque - I tesori di Brescia - Pitocchetto
DESCRIPTION:Scarpe grosse\, pennello fino: Pitocchetto e la pittura di genere\nTra scene sacre e ritratti preziosi\, sono esposti in Pinacoteca Tosio Martinengo un corposo nucleo di dipinti in cui i personaggi sono persone umili\, vestite di stracci\, intente in attività quotidiane. Molto famoso è il “ciclo di Padernello” del Pitocchetto\, ma sono esposte anche altre opere che appartengono alla cosiddetta “pittura di genere”.\nLe ammireremo con calma\, cercando di notare analogie e differenze tra i diversi autori e di rispondere alle molte domande che suscitano: la più frequente è come mai nobili famiglie commissionassero opere che avevano per soggetto mendicanti e poverissimi.\n\na cura di Federica Martinelli\n\nScopri il programma completo\nL’arte delle cinque
URL:https://www.tramearte.it/iscrizione-corso/i-tesori-di-brescia-pitocchetto/
LOCATION:La Bottega di TraMe Arte\, via Nicolò Tommaseo\, 30/32\, Brescia\, 25128\, Italia
CATEGORIES:Arte delle Cinque
ORGANIZER;CN="TraMe Arte":MAILTO:trameartebrescia@gmail.com
END:VEVENT
BEGIN:VEVENT
DTSTART;TZID=Europe/Rome:20221105T170000
DTEND;TZID=Europe/Rome:20221105T183000
DTSTAMP:20260420T213008
CREATED:20220701T152629Z
LAST-MODIFIED:20220806T163631Z
UID:24315-1667667600-1667673000@www.tramearte.it
SUMMARY:L’ARTE DELLE CINQUE - FOTOGRAFIA - TINA MODOTTI/EDWARD WESTON
DESCRIPTION:Incontri dedicati ai grandi fotografi del ‘900 e le donne che sono diventate a loro volta importanti protagoniste della storia della fotografia. \nsabato 5 novembre: TINA MODOTTI/EDWARD WESTON\n \nLui il maestro\, lei la sua modella e amante. Sotto il sole del Messico degli anni ’20\, nel clima artistico tra i più floridi e stimolanti del periodo\, Weston cercherà la perfezione tecnica nei suoi scatti\, Tina dedicarà la sua fotografia all’impegno politico e sociale. \nDocente: Luisa Bondoni \nStorica dell’arte e storica e critica della fotografia\,si laurea nel 2006 in Conservazione dei Beni Culturali presso l’Università di Parma\, con una tesi in storia della fotografia. Nel 2004 inizia la sua collaborazione con il Museo Nazionale della Fotografia di Brescia di cui oggi è la curatrice\, occupandosi dell’archiviazione\, catalogazione e conservazione del patrimoni e dell’organizzazione di mostre ed eventi. \nDocente di Storia della Fotografia I-II nel master post universitario di primo livello Archivi fotografici presso l’Università degli Studi di Trieste. \nRealizza conferenze\, corsi\, seminari e workshop dedicati alla cultura fotografica\, profondamente convinta che per essere fotografi serva consapevolezza e curiosità su quella che è la storia fotografica passata e contemporanea. E’ lettrice portfolio in vari festival e manifestazioni. Ha tenuto conferenze in occasione di importanti eventi come il \nMilano Photofestival\, il Festival della Fotografia Etica e Phototrace. \nE’ curatrice di mostre e scrive testi critici per cataloghi.  \nI suoi testi sono pubblicati su numerosi cataloghi fotografici ed attualmente è Delegata Provinciale FIAF per Brescia e collabora con la rivista Fotoit. Contribuisce come giurata in concorsi fotografici nazionali. \n  \nScopri tutti gli appuntamenti in programmi. Pittura\, Fotografia e Cultura! \nProgramma completo
URL:https://www.tramearte.it/iscrizione-corso/larte-delle-cinque-fotografia-tina-modotti-edward-weston/
LOCATION:La Bottega di TraMe Arte\, via Nicolò Tommaseo\, 30/32\, Brescia\, 25128\, Italia
CATEGORIES:Arte delle Cinque
ORGANIZER;CN="TraMe Arte":MAILTO:trameartebrescia@gmail.com
END:VEVENT
BEGIN:VEVENT
DTSTART;TZID=Europe/Rome:20221022T170000
DTEND;TZID=Europe/Rome:20221022T183000
DTSTAMP:20260420T213008
CREATED:20220803T131430Z
LAST-MODIFIED:20221012T160531Z
UID:24344-1666458000-1666463400@www.tramearte.it
SUMMARY:L’ARTE DELLE CINQUE – ARTE – Elisabeth Vigee Le Brun
DESCRIPTION:Artiste\, pittrici\, muse ispiratrici\, modelle. Quattro incontri per raccontare quattro donne capaci\, indomite\, coraggiose\, anticonformiste che hanno contribuito a scrivere la storia dell’arte. \n15 ottobre: Elisabeth Vigee Le Brun pittrice di corte di Maria Antonietta di Francia \nUna chiacchierata per scoprire Elisabeth Vigee Le Brun\, artista dalla straordinaria e brillante carriera. Pittrice di corte di Maria Antonietta di Francia\, abilissima ritrattista e donna indomita\, Elisabeth Vigee Le Brun fu una grande interprete della temperie della sua epoca e donna capace di scelte audaci e coraggiose. \nDocente: Arianna Floriolo \nScopri tutti gli appuntamenti in programmi. Pittura\, Fotografia e Cultura! \nProgramma completo
URL:https://www.tramearte.it/iscrizione-corso/larte-delle-cinque-arte-elisabeth-vigee-le-brun/
LOCATION:La Bottega di TraMe Arte\, via Nicolò Tommaseo\, 30/32\, Brescia\, 25128\, Italia
CATEGORIES:Arte delle Cinque
ORGANIZER;CN="TraMe Arte":MAILTO:trameartebrescia@gmail.com
END:VEVENT
BEGIN:VEVENT
DTSTART;TZID=Europe/Rome:20221008T170000
DTEND;TZID=Europe/Rome:20221008T183000
DTSTAMP:20260420T213008
CREATED:20220803T170328Z
LAST-MODIFIED:20220805T062703Z
UID:24363-1665248400-1665253800@www.tramearte.it
SUMMARY:L’arte delle cinque - I tesori di Brescia - Rodolfo Vantini
DESCRIPTION:Noto per la progettazione del Cimitero Monumentale di Brescia che porta il suo nome\, l’architetto Vantini è stato uno dei protagonisti del suo tempo su scala non solo locale ma europea.\nE’ lui ad aver progettato la “tomba del cane”\, ma anche  la piazza del mercato di Rovato e palazzo Tosio\, oltre alla cupola del Duomo nuovo e ad altre nobili dimore.\nQuesto appuntamento ti permetterà di  scoprire il suo versatile ingegno.\n\nA cura di Federica Martinelli\n\nScopri tutto il programma dedicato all’arte\, la fotografia e la cultura.\nProgramma completo
URL:https://www.tramearte.it/iscrizione-corso/larte-delle-cinque-i-tesori-di-brescia-rodolfo-vantini/
LOCATION:La Bottega di TraMe Arte\, via Nicolò Tommaseo\, 30/32\, Brescia\, 25128\, Italia
CATEGORIES:Arte delle Cinque
ORGANIZER;CN="TraMe Arte":MAILTO:trameartebrescia@gmail.com
END:VEVENT
BEGIN:VEVENT
DTSTART;TZID=Europe/Rome:20221001T170000
DTEND;TZID=Europe/Rome:20221001T183000
DTSTAMP:20260420T213008
CREATED:20220701T151632Z
LAST-MODIFIED:20220807T090600Z
UID:24311-1664643600-1664649000@www.tramearte.it
SUMMARY:L’Arte delle cinque - Fotografia - GERDA TARO/ROBERT CAPA
DESCRIPTION:Incontri dedicati ai grandi fotografi del ‘900 e le donne che sono diventate a loro volta importanti protagoniste della storia della fotografia.\n \nsabato 1 ottobre: GERDA TARO/ROBERT CAPA \nLui il più grande fotoreporter di guerra del Novecento\, lei temeraria giornalista e fotografa\, intrecceranno le loro vite nella Parigi degli anni ’30\, testimoniando uno dei più sanguinosi conflitti\, la Guerra Civile Spagnola. \nDocente: Luisa Bondoni \nStorica dell’arte e storica e critica della fotografia\,si laurea nel 2006 in Conservazione dei Beni Culturali presso l’Università di Parma\, con una tesi in storia della fotografia. Nel 2004 inizia la sua collaborazione con il Museo Nazionale della Fotografia di Brescia di cui oggi è la curatrice\, occupandosi dell’archiviazione\, catalogazione e conservazione del patrimoni e dell’organizzazione di mostre ed eventi. \nDocente di Storia della Fotografia I-II nel master post universitario di primo livello Archivi fotografici presso l’Università degli Studi di Trieste. \nRealizza conferenze\, corsi\, seminari e workshop dedicati alla cultura fotografica\, profondamente convinta che per essere fotografi serva consapevolezza e curiosità su quella che è la storia fotografica passata e contemporanea. E’ lettrice portfolio in vari festival e manifestazioni. Ha tenuto conferenze in occasione di importanti eventi come il \nMilano Photofestival\, il Festival della Fotografia Etica e Phototrace. \nE’ curatrice di mostre e scrive testi critici per cataloghi.  \nI suoi testi sono pubblicati su numerosi cataloghi fotografici ed attualmente è Delegata Provinciale FIAF per Brescia e collabora con la rivista Fotoit. Contribuisce come giurata in concorsi fotografici nazionali. \nScopri tutto il programma de L’arte delle cinque: arte\, fotografia e i tesori della nostra città.\nProgramma completo
URL:https://www.tramearte.it/iscrizione-corso/larte-delle-cinque-fotografia-gerda-taro-robert-capa/
LOCATION:La Bottega di TraMe Arte\, via Nicolò Tommaseo\, 30/32\, Brescia\, 25128\, Italia
CATEGORIES:Arte delle Cinque
ORGANIZER;CN="TraMe Arte":MAILTO:trameartebrescia@gmail.com
END:VEVENT
BEGIN:VEVENT
DTSTART;TZID=Europe/Rome:20220917T170000
DTEND;TZID=Europe/Rome:20220917T183000
DTSTAMP:20260420T213008
CREATED:20220803T131010Z
LAST-MODIFIED:20220806T164437Z
UID:24341-1663434000-1663439400@www.tramearte.it
SUMMARY:L’arte delle cinque - ARTE - Artemisia Gentileschi e la pittura del ‘600
DESCRIPTION:Artiste\, pittrici\, muse ispiratrici\, modelle. Quattro incontri per raccontare quattro donne capaci\, indomite\, coraggiose\, anticonformiste che hanno contribuito a scrivere la storia dell’arte. \n17 settembre: Artemisia Gentileschi e l’arte del ‘600 \nPittrice talentuosa e grande interprete della lezione del Caravaggio\, Artemisia Gentileschi fu una pittrice e una donna intrepida\, coraggiosa\, pronta a sfidare i pregiudizi della sua epoca ma anche una grande appassionata della vita e della sua arte. \nDocente: Arianna Floriolo \nScopri tutto il programma dedicato all’arte\, la fotografia e la cultura.\nProgramma completo
URL:https://www.tramearte.it/iscrizione-corso/artemisia-gentileschi-e-la-pittura-del-600/
LOCATION:La Bottega di TraMe Arte\, via Nicolò Tommaseo\, 30/32\, Brescia\, 25128\, Italia
CATEGORIES:Arte delle Cinque
ORGANIZER;CN="TraMe Arte":MAILTO:trameartebrescia@gmail.com
END:VEVENT
BEGIN:VEVENT
DTSTART;TZID=Europe/Rome:20220910T170000
DTEND;TZID=Europe/Rome:20220910T183000
DTSTAMP:20260420T213008
CREATED:20220803T165706Z
LAST-MODIFIED:20220805T064530Z
UID:24355-1662829200-1662834600@www.tramearte.it
SUMMARY:L’arte delle cinque - I tesori di Brescia - Il tempio capitolino
DESCRIPTION:Centro nevralgico della gloriosa storia romana di Brescia\, il Capitolino racconta mille e una storia: quella del decumano massimo\, di piazza del foro\, del precedente tempio repubblicano (uno squarcio di pittura pompeiano in Lombardia)\, della Vittoria alata\, del teatro\, delle famiglie che vi costruirono sopra le loro nobili residenze\, di un capitello da cui iniziò lo svelamento dell’intera area all’inizio dell’Ottocento fino al riconoscimento di Brescia nel patrimonio Unesco.\n\na cura di Barbara D’Attoma\n\nScopri gli altri appuntamenti de L’arte delle cinque
URL:https://www.tramearte.it/iscrizione-corso/brescia-il-tempio-capitolino/
LOCATION:La Bottega di TraMe Arte\, via Nicolò Tommaseo\, 30/32\, Brescia\, 25128\, Italia
CATEGORIES:Arte delle Cinque
ORGANIZER;CN="TraMe Arte":MAILTO:trameartebrescia@gmail.com
END:VEVENT
BEGIN:VEVENT
DTSTART;TZID=Europe/Rome:20220610T190000
DTEND;TZID=Europe/Rome:20220610T203000
DTSTAMP:20260420T213008
CREATED:20220501T160040Z
LAST-MODIFIED:20220531T204357Z
UID:24041-1654887600-1654893000@www.tramearte.it
SUMMARY:L’Arte delle Cinque - Frida Kahlo
DESCRIPTION:Un sabato al mese\, all’ora del tea\, il professor Alessandro Mosca ci racconterà la vita e le opere di grandi maestri dell’arte. Durante la presentazione ci sarà davvero la possibilità di gustare una tazza di tea☺️\nInoltre per tutti i partecipanti ci saranno degli articoli firmati TraMe Arte in super promozione e dei consigli di lettura sull’artista protagonista della giornata.
URL:https://www.tramearte.it/iscrizione-corso/larte-delle-cinque-frida-kahlo/
LOCATION:La Bottega di TraMe Arte\, via Nicolò Tommaseo\, 30/32\, Brescia\, 25128\, Italia
CATEGORIES:Arte delle Cinque
ATTACH;FMTTYPE=image/jpeg:https://www.tramearte.it/wp-content/uploads/2018/02/frida-kahlo-mostre-milano-2018-mudec-internettuale.jpg
ORGANIZER;CN="TraMe Arte":MAILTO:trameartebrescia@gmail.com
END:VEVENT
BEGIN:VEVENT
DTSTART;TZID=Europe/Rome:20220430T170000
DTEND;TZID=Europe/Rome:20220430T183000
DTSTAMP:20260420T213008
CREATED:20220330T081827Z
LAST-MODIFIED:20220330T081827Z
UID:24001-1651338000-1651343400@www.tramearte.it
SUMMARY:L'arte delle cinque - Amedeo Modigliani
DESCRIPTION:Un sabato al mese\, all’ora del tea\, il professor Alessandro Mosca ci racconterà la vita e le opere di grandi maestri dell’arte. Durante la presentazione ci sarà davvero la possibilità di gustare una tazza di tea☺️\nInoltre per tutti i partecipanti ci saranno degli articoli firmati TraMe Arte in super promozione e dei consigli di lettura sull’artista protagonista della giornata.
URL:https://www.tramearte.it/iscrizione-corso/arte-delle-cinque-modigliani/
LOCATION:La Bottega di TraMe Arte\, via Nicolò Tommaseo\, 30/32\, Brescia\, 25128\, Italia
CATEGORIES:Arte delle Cinque
ORGANIZER;CN="TraMe Arte":MAILTO:trameartebrescia@gmail.com
END:VEVENT
END:VCALENDAR