BEGIN:VCALENDAR
VERSION:2.0
PRODID:-//TraMe Arte di Beschi Chiara - ECPv6.15.20//NONSGML v1.0//EN
CALSCALE:GREGORIAN
METHOD:PUBLISH
X-ORIGINAL-URL:https://www.tramearte.it
X-WR-CALDESC:Eventi per TraMe Arte di Beschi Chiara
REFRESH-INTERVAL;VALUE=DURATION:PT1H
X-Robots-Tag:noindex
X-PUBLISHED-TTL:PT1H
BEGIN:VTIMEZONE
TZID:Europe/Rome
BEGIN:DAYLIGHT
TZOFFSETFROM:+0100
TZOFFSETTO:+0200
TZNAME:CEST
DTSTART:20250330T010000
END:DAYLIGHT
BEGIN:STANDARD
TZOFFSETFROM:+0200
TZOFFSETTO:+0100
TZNAME:CET
DTSTART:20251026T010000
END:STANDARD
BEGIN:DAYLIGHT
TZOFFSETFROM:+0100
TZOFFSETTO:+0200
TZNAME:CEST
DTSTART:20260329T010000
END:DAYLIGHT
BEGIN:STANDARD
TZOFFSETFROM:+0200
TZOFFSETTO:+0100
TZNAME:CET
DTSTART:20261025T010000
END:STANDARD
BEGIN:DAYLIGHT
TZOFFSETFROM:+0100
TZOFFSETTO:+0200
TZNAME:CEST
DTSTART:20270328T010000
END:DAYLIGHT
BEGIN:STANDARD
TZOFFSETFROM:+0200
TZOFFSETTO:+0100
TZNAME:CET
DTSTART:20271031T010000
END:STANDARD
END:VTIMEZONE
BEGIN:VEVENT
DTSTART;TZID=Europe/Rome:20260523T100000
DTEND;TZID=Europe/Rome:20260523T120000
DTSTAMP:20260420T181656
CREATED:20251223T163550Z
LAST-MODIFIED:20260105T074157Z
UID:27464-1779530400-1779537600@www.tramearte.it
SUMMARY:DECO LAB - dipingi la qualunque
DESCRIPTION:Un laboratorio aperto\, creativo e senza schemi\, in cui la protagonista è la libertà di espressione. In questo incontro di decorazione su ceramica potrai scegliere liberamente cosa decorare – piatti\, tazze\, piastrelle\, piccoli oggetti – e trasformare un manufatto grezzo in un pezzo unico che ti rappresenta. \nTra colori\, pennelli e ispirazioni\, sarai guidato passo dopo passo nell’uso dei materiali e delle tecniche di base\, ma senza vincoli: potrai sperimentare\, cambiare idea\, seguire l’istinto o un tema personale. Il laboratorio è adatto a tutte le età\, anche a chi non ha mai decorato la ceramica o pensa di “non saper disegnare”. \nUn tempo lento e accogliente\, in cui creare diventa un gesto di benessere e condivisione. Perché quando non ci sono regole\, nascono le idee più autentiche ✨ \nAdulti: – costo 25€\nBambini: – costo 20€- Fratello/sorella sconto 5€
URL:https://www.tramearte.it/iscrizione-corso/deco-lab-dipingi-la-qualunque/
LOCATION:La Bottega di TraMe Arte\, via Nicolò Tommaseo\, 30/32\, Brescia\, 25128\, Italia
CATEGORIES:Deco Open Lab
ATTACH;FMTTYPE=image/heic:https://www.tramearte.it/wp-content/uploads/2025/12/IMG_2249.heic
ORGANIZER;CN="TraMe Arte":MAILTO:trameartebrescia@gmail.com
END:VEVENT
BEGIN:VEVENT
DTSTART;TZID=Europe/Rome:20260523T160000
DTEND;TZID=Europe/Rome:20260523T180000
DTSTAMP:20260420T181656
CREATED:20251223T163803Z
LAST-MODIFIED:20260105T074148Z
UID:27466-1779552000-1779559200@www.tramearte.it
SUMMARY:DECO LAB - dipingi la qualunque (pomeriggio)
DESCRIPTION:Un laboratorio aperto\, creativo e senza schemi\, in cui la protagonista è la libertà di espressione. In questo incontro di decorazione su ceramica potrai scegliere liberamente cosa decorare – piatti\, tazze\, piastrelle\, piccoli oggetti – e trasformare un manufatto grezzo in un pezzo unico che ti rappresenta. \nTra colori\, pennelli e ispirazioni\, sarai guidato passo dopo passo nell’uso dei materiali e delle tecniche di base\, ma senza vincoli: potrai sperimentare\, cambiare idea\, seguire l’istinto o un tema personale. Il laboratorio è adatto a tutte le età\, anche a chi non ha mai decorato la ceramica o pensa di “non saper disegnare”. \nUn tempo lento e accogliente\, in cui creare diventa un gesto di benessere e condivisione. Perché quando non ci sono regole\, nascono le idee più autentiche ✨ \nAdulti: – costo 25€\nBambini: – costo 20€- Fratello/sorella sconto 5€
URL:https://www.tramearte.it/iscrizione-corso/deco-lab-dipingi-la-qualunque-pomeriggio/
LOCATION:La Bottega di TraMe Arte\, via Nicolò Tommaseo\, 30/32\, Brescia\, 25128\, Italia
CATEGORIES:Deco Open Lab
ATTACH;FMTTYPE=image/heic:https://www.tramearte.it/wp-content/uploads/2025/12/IMG_2249.heic
ORGANIZER;CN="TraMe Arte":MAILTO:trameartebrescia@gmail.com
END:VEVENT
END:VCALENDAR