BEGIN:VCALENDAR
VERSION:2.0
PRODID:-//TraMe Arte di Beschi Chiara - ECPv6.15.20//NONSGML v1.0//EN
CALSCALE:GREGORIAN
METHOD:PUBLISH
X-ORIGINAL-URL:https://www.tramearte.it
X-WR-CALDESC:Eventi per TraMe Arte di Beschi Chiara
REFRESH-INTERVAL;VALUE=DURATION:PT1H
X-Robots-Tag:noindex
X-PUBLISHED-TTL:PT1H
BEGIN:VTIMEZONE
TZID:Europe/Rome
BEGIN:DAYLIGHT
TZOFFSETFROM:+0100
TZOFFSETTO:+0200
TZNAME:CEST
DTSTART:20220327T010000
END:DAYLIGHT
BEGIN:STANDARD
TZOFFSETFROM:+0200
TZOFFSETTO:+0100
TZNAME:CET
DTSTART:20221030T010000
END:STANDARD
BEGIN:DAYLIGHT
TZOFFSETFROM:+0100
TZOFFSETTO:+0200
TZNAME:CEST
DTSTART:20230326T010000
END:DAYLIGHT
BEGIN:STANDARD
TZOFFSETFROM:+0200
TZOFFSETTO:+0100
TZNAME:CET
DTSTART:20231029T010000
END:STANDARD
BEGIN:DAYLIGHT
TZOFFSETFROM:+0100
TZOFFSETTO:+0200
TZNAME:CEST
DTSTART:20240331T010000
END:DAYLIGHT
BEGIN:STANDARD
TZOFFSETFROM:+0200
TZOFFSETTO:+0100
TZNAME:CET
DTSTART:20241027T010000
END:STANDARD
BEGIN:DAYLIGHT
TZOFFSETFROM:+0100
TZOFFSETTO:+0200
TZNAME:CEST
DTSTART:20250330T010000
END:DAYLIGHT
BEGIN:STANDARD
TZOFFSETFROM:+0200
TZOFFSETTO:+0100
TZNAME:CET
DTSTART:20251026T010000
END:STANDARD
BEGIN:DAYLIGHT
TZOFFSETFROM:+0100
TZOFFSETTO:+0200
TZNAME:CEST
DTSTART:20260329T010000
END:DAYLIGHT
BEGIN:STANDARD
TZOFFSETFROM:+0200
TZOFFSETTO:+0100
TZNAME:CET
DTSTART:20261025T010000
END:STANDARD
BEGIN:DAYLIGHT
TZOFFSETFROM:+0100
TZOFFSETTO:+0200
TZNAME:CEST
DTSTART:20270328T010000
END:DAYLIGHT
BEGIN:STANDARD
TZOFFSETFROM:+0200
TZOFFSETTO:+0100
TZNAME:CET
DTSTART:20271031T010000
END:STANDARD
END:VTIMEZONE
BEGIN:VEVENT
DTSTART;TZID=Europe/Rome:20260403T090000
DTEND;TZID=Europe/Rome:20260403T160000
DTSTAMP:20260420T213010
CREATED:20260320T130403Z
LAST-MODIFIED:20260320T130403Z
UID:27557-1775206800-1775232000@www.tramearte.it
SUMMARY:CAMPUS DI PASQUA - UN’OASI DI PACE
DESCRIPTION:In un momento storico in cui il mondo intorno a noi è attraversato da tensioni e conflitti\, nasce il desiderio di offrire ai bambini uno spazio diverso: protetto\, accogliente\, in cui coltivare il valore della pace partendo da sé. \n“Un’oasi di pace” è una giornata creativa pensata per aiutare i più piccoli a comprendere\, attraverso il linguaggio dell’arte e del fare\, quanto siano importanti gesti come l’ascolto\, il rispetto\, la gentilezza e la cura degli altri. \nDurante la giornata\, i bambini parteciperanno a laboratori espressivi ispirati alla natura e all’armonia: creeranno con materiali semplici e naturali\, daranno forma alle proprie emozioni e rifletteranno\, in modo delicato e adatto alla loro età\, su cosa significa costruire pace ogni giorno. \nSarà un tempo lento\, fatto di colori\, silenzi\, condivisione e immaginazione. Un piccolo seme che può crescere dentro ciascuno di loro. \n🕘 Orario: dalle 9:00 alle 16:00 \n🍱 Pranzo: al sacco \n👧👦 Costo: 50€ a bambino \nUn’esperienza per crescere insieme\, con consapevolezza e speranza. 🌸
URL:https://www.tramearte.it/iscrizione-corso/campus-di-pasqua-unoasi-di-pace/
LOCATION:La Bottega di TraMe Arte\, via Nicolò Tommaseo\, 30/32\, Brescia\, 25128\, Italia
CATEGORIES:Lab. Creativo
ATTACH;FMTTYPE=image/jpeg:https://www.tramearte.it/wp-content/uploads/2026/03/IMG_3057.jpeg
ORGANIZER;CN="TraMe Arte":MAILTO:trameartebrescia@gmail.com
END:VEVENT
BEGIN:VEVENT
DTSTART;TZID=Europe/Rome:20240601T140000
DTEND;TZID=Europe/Rome:20240601T180000
DTSTAMP:20260420T213010
CREATED:20240319T095952Z
LAST-MODIFIED:20240319T143832Z
UID:25972-1717250400-1717264800@www.tramearte.it
SUMMARY:Laboratorio creativo di LINOCUT - incisione su linoleum e stampa artistica
DESCRIPTION:L’incisione su linoleum è una delle tecniche grafiche che offre allo stampatore risultati immediati e di grande effetto. La lineografia (in inglese linocut) è una tecnica di stampa artistica diretta di immagini e grafiche su carta\, cartone o stoffa\, mediante l’uso di una matrice ricavata incidendo direttamente la superficie del linoleum. \nLe matrici possono essere stampate infinite volte riprodotte sempre uguali\, attraverso la stampa a secco o con variazioni di colore. \nNel costo sono compresi tutti i materiali necessari.
URL:https://www.tramearte.it/iscrizione-corso/laboratorio-creativo-di-incisione/
LOCATION:La Bottega di TraMe Arte\, via Nicolò Tommaseo\, 30/32\, Brescia\, 25128\, Italia
CATEGORIES:Lab. Creativo
ATTACH;FMTTYPE=image/jpeg:https://www.tramearte.it/wp-content/uploads/2024/03/498FDA60-956E-455B-8440-5858A0E70BB7.jpeg
ORGANIZER;CN="TraMe Arte":MAILTO:trameartebrescia@gmail.com
END:VEVENT
BEGIN:VEVENT
DTSTART;TZID=Europe/Rome:20240518T140000
DTEND;TZID=Europe/Rome:20240518T180000
DTSTAMP:20260420T213010
CREATED:20240319T103400Z
LAST-MODIFIED:20240319T143907Z
UID:25975-1716040800-1716055200@www.tramearte.it
SUMMARY:Laboratorio creativo di legatoria - agenda Midori
DESCRIPTION:Il Midori detto anche Traveller’s notebook è un tipo di agenda da viaggio che può essere integrata di volta in volta aggiungendo diversi quaderni (quanti si vuole). E’ un metodo di “legatoria” moderna che arriva dal Giappone che prende il nome dall’azienda che per prima la mise sul mercato. \nL’agenda del viaggiatore è un metodo di organizzazione più che una vera e propria legatura tradizionale. E’ composta infatti\, da una copertina (di pelle\, similpelle\, stoffa\, carta\, feltro…) al cui centro sono fissati degli elastici in verticale. \nGli inserti (i quadernini) vengono fissati alla copertina facendoli passare sotto gli elastici.
URL:https://www.tramearte.it/iscrizione-corso/laboratorio-creativo-di-legatoria-agenda-midori/
LOCATION:La Bottega di TraMe Arte\, via Nicolò Tommaseo\, 30/32\, Brescia\, 25128\, Italia
CATEGORIES:Lab. Creativo
ORGANIZER;CN="TraMe Arte":MAILTO:trameartebrescia@gmail.com
END:VEVENT
BEGIN:VEVENT
DTSTART;TZID=Europe/Rome:20240417T200000
DTEND;TZID=Europe/Rome:20240417T220000
DTSTAMP:20260420T213010
CREATED:20240318T115330Z
LAST-MODIFIED:20240328T134752Z
UID:25950-1713384000-1713391200@www.tramearte.it
SUMMARY:Laboratorio Carta fatta a mano per adulti
DESCRIPTION:Durante il laboratorio realizzeremo fogli di carta artigianale partendo da ritagli e scarti. \nGreta di Raw Paper Studio riporta alla luce una tecnica semplice e pura\, simile a quella degli antichi mastri cartai. \nImpareremo insieme come creare una carta ruvida\, vera e cruda. Unica nel suo genere e nella sua imperfezione perché realizzata con materia prima sempre diversa\, lo scarto. \nTramite questo processo creativo viene data una nuova vita a materiali d’avanzo\, creando da essi una nuova risorsa. \nIl laboratorio prevede una dimostrazione pratica del processo di creazione della carta artigianale\, con possibilità di provare in prima persona. Ogni partecipante realizzerà il proprio foglio di carta!
URL:https://www.tramearte.it/iscrizione-corso/laboratorio-carta-riciclata-per-adulti/
LOCATION:La Bottega di TraMe Arte\, via Nicolò Tommaseo\, 30/32\, Brescia\, 25128\, Italia
CATEGORIES:Lab. Creativo
ORGANIZER;CN="TraMe Arte":MAILTO:trameartebrescia@gmail.com
END:VEVENT
BEGIN:VEVENT
DTSTART;TZID=Europe/Rome:20231014T150000
DTEND;TZID=Europe/Rome:20231014T160000
DTSTAMP:20260420T213010
CREATED:20230722T182232Z
LAST-MODIFIED:20230807T095726Z
UID:25198-1697295600-1697299200@www.tramearte.it
SUMMARY:Laboratorio Creativo per bambini: Una vetrata da paura - 1° turno
DESCRIPTION:Laboratorio creativo per bambini dai 3 agli 11 anni. \nRealizzeremo insieme delle sagome mostruose da applicare alle finestre per addobbare la nostra casa a tema halloween. \nIl materiale è compreso nel prezzo. \nI bambini di età inferiore ai 6 anni devono essere accompagnati da un adulto.\nFratelli/Sorelle sconto 5€ \nE’ NECESSARIO COMPILARE IL FORM DI ISCRIZIONE PER OGNI BAMBINO PARTECIPANTE
URL:https://www.tramearte.it/iscrizione-corso/laboratorio-creativo-per-bambini-una-vetrata-da-paura/
LOCATION:La Bottega di TraMe Arte\, via Nicolò Tommaseo\, 30/32\, Brescia\, 25128\, Italia
CATEGORIES:Bambini e Famiglie,Lab. Creativo
ATTACH;FMTTYPE=image/jpeg:https://www.tramearte.it/wp-content/uploads/2023/07/5D2BBF76-854E-4096-A59A-A663E91C01EB.jpeg
ORGANIZER;CN="TraMe Arte":MAILTO:trameartebrescia@gmail.com
END:VEVENT
BEGIN:VEVENT
DTSTART;TZID=Europe/Rome:20230930T170000
DTEND;TZID=Europe/Rome:20230930T180000
DTSTAMP:20260420T213010
CREATED:20230722T165759Z
LAST-MODIFIED:20230807T095749Z
UID:25190-1696093200-1696096800@www.tramearte.it
SUMMARY:Laboratorio Creativo per Bambini: IL MOSAICO - 2° turno
DESCRIPTION:Laboratorio creativo per bambini dai 3 agli 11 anni. \nImpareremo a riprodurre la tecnica del mosaico attraverso l’utilizzo di fogli coloratissimi.\nOgni bambino realizzerà la sua opera d’arte che poi potrà portare a casa. \nIl materiale è compreso nel prezzo. \nI bambini di età inferiore ai 6 anni devono essere accompagnati da un adulto.\nFratelli/Sorelle sconto 5€ \nE’ NECESSARIO COMPILARE IL FORM DI ISCRIZIONE PER OGNI BAMBINO PARTECIPANTE
URL:https://www.tramearte.it/iscrizione-corso/laboratorio-creativo-per-bambini-il-mosaico-2/
LOCATION:La Bottega di TraMe Arte\, via Nicolò Tommaseo\, 30/32\, Brescia\, 25128\, Italia
CATEGORIES:Bambini e Famiglie,Lab. Creativo
ATTACH;FMTTYPE=image/jpeg:https://www.tramearte.it/wp-content/uploads/2023/07/FF921EFA-4CD3-4661-93D7-4C19767D6E2A-e1690044653515.jpeg
ORGANIZER;CN="TraMe Arte":MAILTO:trameartebrescia@gmail.com
END:VEVENT
BEGIN:VEVENT
DTSTART;TZID=Europe/Rome:20230930T150000
DTEND;TZID=Europe/Rome:20230930T160000
DTSTAMP:20260420T213010
CREATED:20230722T165408Z
LAST-MODIFIED:20230807T095757Z
UID:25187-1696086000-1696089600@www.tramearte.it
SUMMARY:Laboratorio Creativo per Bambini: IL MOSAICO - 1° turno
DESCRIPTION:Laboratorio creativo per bambini dai 3 agli 11 anni. \nImpareremo a riprodurre la tecnica del mosaico attraverso l’utilizzo di fogli coloratissimi.\nOgni bambino realizzerà la sua opera d’arte che poi potrà portare a casa. \nIl materiale è compreso nel prezzo. \nI bambini di età inferiore ai 6 anni devono essere accompagnati da un adulto.\nFratelli/Sorelle sconto 5€ \nE’ NECESSARIO COMPILARE IL FORM DI ISCRIZIONE PER OGNI BAMBINO PARTECIPANTE
URL:https://www.tramearte.it/iscrizione-corso/laboratorio-creativo-per-bambini-il-mosaico/
LOCATION:La Bottega di TraMe Arte\, via Nicolò Tommaseo\, 30/32\, Brescia\, 25128\, Italia
CATEGORIES:Bambini e Famiglie,Lab. Creativo
ATTACH;FMTTYPE=image/jpeg:https://www.tramearte.it/wp-content/uploads/2023/07/FF921EFA-4CD3-4661-93D7-4C19767D6E2A-e1690044653515.jpeg
ORGANIZER;CN="TraMe Arte":MAILTO:trameartebrescia@gmail.com
END:VEVENT
END:VCALENDAR