BEGIN:VCALENDAR
VERSION:2.0
PRODID:-//TraMe Arte di Beschi Chiara - ECPv6.15.20//NONSGML v1.0//EN
CALSCALE:GREGORIAN
METHOD:PUBLISH
X-WR-CALNAME:TraMe Arte di Beschi Chiara
X-ORIGINAL-URL:https://www.tramearte.it
X-WR-CALDESC:Eventi per TraMe Arte di Beschi Chiara
REFRESH-INTERVAL;VALUE=DURATION:PT1H
X-Robots-Tag:noindex
X-PUBLISHED-TTL:PT1H
BEGIN:VTIMEZONE
TZID:Europe/Rome
BEGIN:DAYLIGHT
TZOFFSETFROM:+0100
TZOFFSETTO:+0200
TZNAME:CEST
DTSTART:20220327T010000
END:DAYLIGHT
BEGIN:STANDARD
TZOFFSETFROM:+0200
TZOFFSETTO:+0100
TZNAME:CET
DTSTART:20221030T010000
END:STANDARD
BEGIN:DAYLIGHT
TZOFFSETFROM:+0100
TZOFFSETTO:+0200
TZNAME:CEST
DTSTART:20230326T010000
END:DAYLIGHT
BEGIN:STANDARD
TZOFFSETFROM:+0200
TZOFFSETTO:+0100
TZNAME:CET
DTSTART:20231029T010000
END:STANDARD
BEGIN:DAYLIGHT
TZOFFSETFROM:+0100
TZOFFSETTO:+0200
TZNAME:CEST
DTSTART:20240331T010000
END:DAYLIGHT
BEGIN:STANDARD
TZOFFSETFROM:+0200
TZOFFSETTO:+0100
TZNAME:CET
DTSTART:20241027T010000
END:STANDARD
END:VTIMEZONE
BEGIN:VEVENT
DTSTART;TZID=Europe/Rome:20230923T093000
DTEND;TZID=Europe/Rome:20231014T123000
DTSTAMP:20260420T211144
CREATED:20230722T155306Z
LAST-MODIFIED:20230807T095827Z
UID:25178-1695461400-1697286600@www.tramearte.it
SUMMARY:Scultura - Livello Base
DESCRIPTION:Corso di scultura livello base per chi intende avvicinarsi per la prima volta all‘attività di modellazione plastica della creta per la creazione di piccole sculture. Ci soffermeremo inizialmente sulla realizzazione di bassorilievi e altorilievi.  \nLe opere realizzate saranno di proprietà del corsista. \nIl corso ha una durata di 4 incontri da 3h ciascuno. \nIl materiale e le cotture sono compresi nel prezzo.
URL:https://www.tramearte.it/iscrizione-corso/corso-scultura-base/
LOCATION:La Bottega di TraMe Arte\, via Nicolò Tommaseo\, 30/32\, Brescia\, 25128\, Italia
CATEGORIES:Scultura
ATTACH;FMTTYPE=image/jpeg:https://www.tramearte.it/wp-content/uploads/2023/07/EA7E8519-C55A-4D8A-8BB2-C4A60D3D2968-e1690041734618.jpeg
ORGANIZER;CN="TraMe Arte":MAILTO:trameartebrescia@gmail.com
END:VEVENT
END:VCALENDAR