BEGIN:VCALENDAR
VERSION:2.0
PRODID:-//TraMe Arte di Beschi Chiara - ECPv6.15.20//NONSGML v1.0//EN
CALSCALE:GREGORIAN
METHOD:PUBLISH
X-ORIGINAL-URL:https://www.tramearte.it
X-WR-CALDESC:Eventi per TraMe Arte di Beschi Chiara
REFRESH-INTERVAL;VALUE=DURATION:PT1H
X-Robots-Tag:noindex
X-PUBLISHED-TTL:PT1H
BEGIN:VTIMEZONE
TZID:Europe/Rome
BEGIN:DAYLIGHT
TZOFFSETFROM:+0100
TZOFFSETTO:+0200
TZNAME:CEST
DTSTART:20240331T010000
END:DAYLIGHT
BEGIN:STANDARD
TZOFFSETFROM:+0200
TZOFFSETTO:+0100
TZNAME:CET
DTSTART:20241027T010000
END:STANDARD
BEGIN:DAYLIGHT
TZOFFSETFROM:+0100
TZOFFSETTO:+0200
TZNAME:CEST
DTSTART:20250330T010000
END:DAYLIGHT
BEGIN:STANDARD
TZOFFSETFROM:+0200
TZOFFSETTO:+0100
TZNAME:CET
DTSTART:20251026T010000
END:STANDARD
BEGIN:DAYLIGHT
TZOFFSETFROM:+0100
TZOFFSETTO:+0200
TZNAME:CEST
DTSTART:20260329T010000
END:DAYLIGHT
BEGIN:STANDARD
TZOFFSETFROM:+0200
TZOFFSETTO:+0100
TZNAME:CET
DTSTART:20261025T010000
END:STANDARD
END:VTIMEZONE
BEGIN:VEVENT
DTSTART;TZID=Europe/Rome:20251128T173000
DTEND;TZID=Europe/Rome:20251212T183000
DTSTAMP:20260420T230713
CREATED:20251105T132901Z
LAST-MODIFIED:20251105T132901Z
UID:27316-1764351000-1765564200@www.tramearte.it
SUMMARY:Corso di Fumetto Manga - Disegnare un personaggio SHŌNEN
DESCRIPTION:Corso “Disegna il tuo personaggio Shōnen” – 3 appuntamenti per dare vita al tuo eroe! 🎨✏️ \nUn percorso creativo in 3 incontri dedicato a chi vuole imparare a disegnare un personaggio in stile Shōnen\, il genere dei manga d’avventura più amato di sempre!\nPasso dopo passo\, scoprirai come costruire un protagonista credibile e dinamico\, curandone anatomia\, espressioni\, abbigliamento e pose d’azione\, fino ad arrivare alla tavola illustrata finale. \n🔹 1° incontro – Dall’idea al volto\nIntroduzione allo stile Shōnen\, proporzioni del viso e del corpo\, linee di costruzione e tratti distintivi del personaggio. Bozze e prime espressioni. \n🔹 2° incontro – Abiti\, accessori e personalità\nStudio del carattere attraverso i dettagli: abbigliamento\, hairstyle\, simboli\, accessori. Come rendere unico il proprio eroe o eroina. \n🔹 3° incontro – Dinamica e azione\nPosa\, movimento e inquadratura. Creazione della tavola finale con il personaggio in azione e ambientazione Shōnen. \n👉 Il corso è pensato per ragazzi appassionati di manga\, anche alle prime armi.\nMateriale di disegno base incluso\, spirito d’avventura indispensabile!
URL:https://www.tramearte.it/iscrizione-corso/corso-di-fumetto-manga-disegnare-un-personaggio-shonen/
LOCATION:La Bottega di TraMe Arte\, via Nicolò Tommaseo\, 30/32\, Brescia\, 25128\, Italia
CATEGORIES:Fumetto
ATTACH;FMTTYPE=image/jpeg:https://www.tramearte.it/wp-content/uploads/2025/11/IMG_2873-e1762349327466.jpeg
ORGANIZER;CN="TraMe Arte":MAILTO:trameartebrescia@gmail.com
END:VEVENT
END:VCALENDAR