BEGIN:VCALENDAR
VERSION:2.0
PRODID:-//TraMe Arte di Beschi Chiara - ECPv6.15.20//NONSGML v1.0//EN
CALSCALE:GREGORIAN
METHOD:PUBLISH
X-WR-CALNAME:TraMe Arte di Beschi Chiara
X-ORIGINAL-URL:https://www.tramearte.it
X-WR-CALDESC:Eventi per TraMe Arte di Beschi Chiara
REFRESH-INTERVAL;VALUE=DURATION:PT1H
X-Robots-Tag:noindex
X-PUBLISHED-TTL:PT1H
BEGIN:VTIMEZONE
TZID:Europe/Rome
BEGIN:DAYLIGHT
TZOFFSETFROM:+0100
TZOFFSETTO:+0200
TZNAME:CEST
DTSTART:20250330T010000
END:DAYLIGHT
BEGIN:STANDARD
TZOFFSETFROM:+0200
TZOFFSETTO:+0100
TZNAME:CET
DTSTART:20251026T010000
END:STANDARD
BEGIN:DAYLIGHT
TZOFFSETFROM:+0100
TZOFFSETTO:+0200
TZNAME:CEST
DTSTART:20260329T010000
END:DAYLIGHT
BEGIN:STANDARD
TZOFFSETFROM:+0200
TZOFFSETTO:+0100
TZNAME:CET
DTSTART:20261025T010000
END:STANDARD
BEGIN:DAYLIGHT
TZOFFSETFROM:+0100
TZOFFSETTO:+0200
TZNAME:CEST
DTSTART:20270328T010000
END:DAYLIGHT
BEGIN:STANDARD
TZOFFSETFROM:+0200
TZOFFSETTO:+0100
TZNAME:CET
DTSTART:20271031T010000
END:STANDARD
END:VTIMEZONE
BEGIN:VEVENT
DTSTART;TZID=Europe/Rome:20260117T100000
DTEND;TZID=Europe/Rome:20260117T110000
DTSTAMP:20260420T212347
CREATED:20251223T112716Z
LAST-MODIFIED:20260106T173536Z
UID:27365-1768644000-1768647600@www.tramearte.it
SUMMARY:CERAMICA BIMBI - La mia tazza dinosauro
DESCRIPTION:Un laboratorio divertente e super creativo pensato per i bambini\, dove l’argilla prende vita… in versione dinosauro! \nDurante l’attività ogni partecipante modellerà una tazza dinosauro\, partendo da una forma semplice e aggiungendo occhi\, dentoni\, creste\, codine e tutti i dettagli più buffi e preistorici. \nGuidati passo dopo passo\, i bambini scopriranno le basi della modellazione dell’argilla\, imparando a usare le mani e piccoli strumenti per dare forma alle loro idee\, senza bisogno di esperienza. Ogni tazza sarà diversa\, unica e personalissima\, proprio come il dinosauro che la ispira. \nUn’esperienza che stimola fantasia\, manualità e creatività\, perfetta per chi ama i dinosauri e ha voglia di sporcarsi le mani creando qualcosa di speciale. \nDopo la cottura\, la tazza sarà pronta per essere utilizzata o custodita come un piccolo tesoro fatto a mano. \n✨ Un’avventura creativa tra argilla e dinosauri… ruggito finale assicurato! 🦕
URL:https://www.tramearte.it/iscrizione-corso/ceramica-bimbi-la-mia-tazza-dinosauro/
LOCATION:La Bottega di TraMe Arte\, via Nicolò Tommaseo\, 30/32\, Brescia\, 25128\, Italia
CATEGORIES:Ceramica Bimbi
ATTACH;FMTTYPE=image/jpeg:https://www.tramearte.it/wp-content/uploads/2025/12/IMG_2910.jpeg
ORGANIZER;CN="TraMe Arte":MAILTO:trameartebrescia@gmail.com
END:VEVENT
BEGIN:VEVENT
DTSTART;TZID=Europe/Rome:20260117T163000
DTEND;TZID=Europe/Rome:20260117T173000
DTSTAMP:20260420T212347
CREATED:20251223T114331Z
LAST-MODIFIED:20260105T081549Z
UID:27369-1768667400-1768671000@www.tramearte.it
SUMMARY:CERAMICA BIMBI - La mia tazza dinosauro (pomeriggio)
DESCRIPTION:Un laboratorio divertente e super creativo pensato per i bambini\, dove l’argilla prende vita… in versione dinosauro! \nDurante l’attività ogni partecipante modellerà una tazza dinosauro\, partendo da una forma semplice e aggiungendo occhi\, dentoni\, creste\, codine e tutti i dettagli più buffi e preistorici. \nGuidati passo dopo passo\, i bambini scopriranno le basi della modellazione dell’argilla\, imparando a usare le mani e piccoli strumenti per dare forma alle loro idee\, senza bisogno di esperienza. Ogni tazza sarà diversa\, unica e personalissima\, proprio come il dinosauro che la ispira. \nUn’esperienza che stimola fantasia\, manualità e creatività\, perfetta per chi ama i dinosauri e ha voglia di sporcarsi le mani creando qualcosa di speciale. \nDopo la cottura\, la tazza sarà pronta per essere utilizzata o custodita come un piccolo tesoro fatto a mano. \n✨ Un’avventura creativa tra argilla e dinosauri… ruggito finale assicurato! 🦕
URL:https://www.tramearte.it/iscrizione-corso/ceramica-bimbi-la-mia-tazza-dinosauro-pomeriggio/
LOCATION:La Bottega di TraMe Arte\, via Nicolò Tommaseo\, 30/32\, Brescia\, 25128\, Italia
CATEGORIES:Ceramica Bimbi
ATTACH;FMTTYPE=image/jpeg:https://www.tramearte.it/wp-content/uploads/2025/12/IMG_2910.jpeg
ORGANIZER;CN="TraMe Arte":MAILTO:trameartebrescia@gmail.com
END:VEVENT
BEGIN:VEVENT
DTSTART;TZID=Europe/Rome:20260124T100000
DTEND;TZID=Europe/Rome:20260124T120000
DTSTAMP:20260420T212347
CREATED:20251223T115225Z
LAST-MODIFIED:20260105T081530Z
UID:27371-1769248800-1769256000@www.tramearte.it
SUMMARY:DECO LAB - Dillo con un piatto
DESCRIPTION:Un laboratorio creativo aperto ad adulti e bambini\, pensato per chi ama le parole e vuole trasformarle in un oggetto unico e personale. \nDurante l’incontro ogni partecipante decorerà un piatto in ceramica scrivendo frasi del cuore\, aforismi\, motti\, parole gentili o messaggi speciali\, utilizzando tecniche semplici\, intuitive e adatte a tutti\, anche a chi non ha mai dipinto prima. \nTra pennelli\, colori per ceramica e tanta libertà espressiva\, ognuno potrà dare forma al proprio pensiero: una frase che ispira\, una parola che incoraggia\, un messaggio da regalare o da tenere come piccolo rituale quotidiano. \nIl laboratorio è pensato come un momento di condivisione e calma\, da vivere insieme – genitori e figli\, nonni e nipoti\, amici – dove la scrittura incontra il colore e diventa materia. \n✨ Cosa porterai a casa: \n\nun piatto decorato a mano\, unico e significativo\nun’esperienza creativa da ricordare\nil piacere di vedere le parole trasformarsi in qualcosa che dura nel tempo\n\nUn laboratorio dove le mani creano e le parole restano. \nAdulti: piatto diametro 26 cm – costo 30€\nBambini: piatto diametro 20 cm – costo 25€
URL:https://www.tramearte.it/iscrizione-corso/deco-lab-dillo-con-un-piatto/
LOCATION:La Bottega di TraMe Arte\, via Nicolò Tommaseo\, 30/32\, Brescia\, 25128\, Italia
ATTACH;FMTTYPE=image/jpeg:https://www.tramearte.it/wp-content/uploads/2025/12/IMG_2906.jpeg
ORGANIZER;CN="TraMe Arte":MAILTO:trameartebrescia@gmail.com
END:VEVENT
BEGIN:VEVENT
DTSTART;TZID=Europe/Rome:20260124T140000
DTEND;TZID=Europe/Rome:20260124T160000
DTSTAMP:20260420T212347
CREATED:20251223T115334Z
LAST-MODIFIED:20260105T081505Z
UID:27374-1769263200-1769270400@www.tramearte.it
SUMMARY:DECO LAB - Dillo con un piatto - (pomeriggio)
DESCRIPTION:Un laboratorio creativo aperto ad adulti e bambini\, pensato per chi ama le parole e vuole trasformarle in un oggetto unico e personale. \nDurante l’incontro ogni partecipante decorerà un piatto in ceramica scrivendo frasi del cuore\, aforismi\, motti\, parole gentili o messaggi speciali\, utilizzando tecniche semplici\, intuitive e adatte a tutti\, anche a chi non ha mai dipinto prima. \nTra pennelli\, colori per ceramica e tanta libertà espressiva\, ognuno potrà dare forma al proprio pensiero: una frase che ispira\, una parola che incoraggia\, un messaggio da regalare o da tenere come piccolo rituale quotidiano. \nIl laboratorio è pensato come un momento di condivisione e calma\, da vivere insieme – genitori e figli\, nonni e nipoti\, amici – dove la scrittura incontra il colore e diventa materia. \n✨ Cosa porterai a casa: \n\nun piatto decorato a mano\, unico e significativo\nun’esperienza creativa da ricordare\nil piacere di vedere le parole trasformarsi in qualcosa che dura nel tempo\n\nUn laboratorio dove le mani creano e le parole restano. \nAdulti: piatto diametro 26 cm – costo 30€\nBambini: piatto diametro 20 cm – costo 25€
URL:https://www.tramearte.it/iscrizione-corso/deco-lab-dillo-con-un-piatto-pomeriggio/
LOCATION:La Bottega di TraMe Arte\, via Nicolò Tommaseo\, 30/32\, Brescia\, 25128\, Italia
ATTACH;FMTTYPE=image/jpeg:https://www.tramearte.it/wp-content/uploads/2025/12/IMG_2906.jpeg
ORGANIZER;CN="TraMe Arte":MAILTO:trameartebrescia@gmail.com
END:VEVENT
BEGIN:VEVENT
DTSTART;TZID=Europe/Rome:20260131T100000
DTEND;TZID=Europe/Rome:20260131T120000
DTSTAMP:20260420T212347
CREATED:20251223T124622Z
LAST-MODIFIED:20251223T124622Z
UID:27376-1769853600-1769860800@www.tramearte.it
SUMMARY:Ceramica & Brunch – crea\, decora\, gusta
DESCRIPTION:Un evento speciale in collaborazione con Tenuta Urbana che unisce creatività e convivialità\, pensato per chi ha voglia di rallentare\, creare con le mani e godersi un momento di piacere. \nDurante l’incontro sarà possibile decorare un oggetto di ceramica grezzo – come una tazza\, un piatto o un piccolo elemento decorativo – scegliendo colori\, segni e dettagli personali\, guidati passo dopo passo con tecniche semplici e adatte a tutti\, anche a chi è alla prima esperienza. \nMentre le mani lavorano e la fantasia prende forma\, i partecipanti potranno gustare un brunch curato\, fatto di sapori genuini e atmosfera rilassata\, da condividere intorno allo stesso tavolo creativo. \nUn’esperienza pensata per adulti\, amici\, coppie e famiglie\, dove il tempo si fa lento\, le chiacchiere si intrecciano ai colori e ogni oggetto racconta una storia. \n☕🎨 Cosa rende speciale l’evento: \n\ndecorazione libera di un oggetto in ceramica grezzo\nbrunch conviviale incluso\nmateriali e supporto creativo forniti\nun ricordo fatto a mano da portare a casa\n\nUn evento dove la creatività incontra il gusto e stare insieme diventa parte dell’opera.
URL:https://www.tramearte.it/iscrizione-corso/ceramica-brunch-crea-decora-gusta/
LOCATION:Tenuta Urbana\, Via Romiglia\, 6\, Brescia\, Italy
CATEGORIES:Deco Open Lab
ATTACH;FMTTYPE=image/heic:https://www.tramearte.it/wp-content/uploads/2025/12/IMG_1949.heic
ORGANIZER;CN="TraMe Arte":MAILTO:trameartebrescia@gmail.com
END:VEVENT
BEGIN:VEVENT
DTSTART;TZID=Europe/Rome:20260131T100000
DTEND;TZID=Europe/Rome:20260131T120000
DTSTAMP:20260420T212347
CREATED:20251223T125251Z
LAST-MODIFIED:20260105T102315Z
UID:27389-1769853600-1769860800@www.tramearte.it
SUMMARY:Ceramica Week End - turno mattino
DESCRIPTION:Ceramica Week End è la nuova formula del nostro Open Lab\, pensata per chi riesce a ritagliarsi tempo creativo solo nel fine settimana. \nUn’intera giornata dedicata alla scoperta del meraviglioso mondo della ceramica\, per muovere i primi passi tra argilla\, mani e immaginazione. \nDurante l’esperienza potrai sperimentare\, creare e imparare\, guidato passo dopo passo dal nostro team: partirai da un semplice panetto di argilla per realizzare da zero il tuo manufatto\, vivendo il piacere del fare con calma e consapevolezza. \nPotrai prenotare la tua postazione nel turno che preferisci: \n🕙 10.00 – 12.00\n🕓 16.00 – 18.00 \nLa giornata è adatta sia agli adulti che ai bambini dai 4 anni\, purché accompagnati da un adulto\, per un’esperienza da condividere insieme tra creatività\, gioco e manualità. \nUn weekend diverso dal solito\, dove il tempo rallenta e le mani raccontano storie. \n✨ Ti aspettiamo per creare insieme.
URL:https://www.tramearte.it/iscrizione-corso/ceramica-week-end-turno-mattino/
LOCATION:La Bottega di TraMe Arte\, via Nicolò Tommaseo\, 30/32\, Brescia\, 25128\, Italia
CATEGORIES:Ceramica for Week End
ATTACH;FMTTYPE=image/jpeg:https://www.tramearte.it/wp-content/uploads/2020/03/IMG_20200222_105848-scaled-e1723813454332.jpg
ORGANIZER;CN="TraMe Arte":MAILTO:trameartebrescia@gmail.com
END:VEVENT
BEGIN:VEVENT
DTSTART;TZID=Europe/Rome:20260131T140000
DTEND;TZID=Europe/Rome:20260131T160000
DTSTAMP:20260420T212347
CREATED:20251223T125420Z
LAST-MODIFIED:20260109T082138Z
UID:27391-1769868000-1769875200@www.tramearte.it
SUMMARY:Ceramica Week End - turno pomeriggio
DESCRIPTION:Ceramica Week End è la nuova formula del nostro Open Lab\, pensata per chi riesce a ritagliarsi tempo creativo solo nel fine settimana. \nUn’intera giornata dedicata alla scoperta del meraviglioso mondo della ceramica\, per muovere i primi passi tra argilla\, mani e immaginazione. \nDurante l’esperienza potrai sperimentare\, creare e imparare\, guidato passo dopo passo dal nostro team: partirai da un semplice panetto di argilla per realizzare da zero il tuo manufatto\, vivendo il piacere del fare con calma e consapevolezza. \nPotrai prenotare la tua postazione nel turno che preferisci: \n🕙 10.00 – 12.00\n🕓 16.00 – 18.00 \nLa giornata è adatta sia agli adulti che ai bambini dai 4 anni\, purché accompagnati da un adulto\, per un’esperienza da condividere insieme tra creatività\, gioco e manualità. \nUn weekend diverso dal solito\, dove il tempo rallenta e le mani raccontano storie. \n✨ Ti aspettiamo per creare insieme.
URL:https://www.tramearte.it/iscrizione-corso/ceramica-week-end-turno-pomeriggio-5/
LOCATION:La Bottega di TraMe Arte\, via Nicolò Tommaseo\, 30/32\, Brescia\, 25128\, Italia
CATEGORIES:Ceramica for Week End
ATTACH;FMTTYPE=image/jpeg:https://www.tramearte.it/wp-content/uploads/2020/03/IMG_20200222_105848-scaled-e1723813454332.jpg
ORGANIZER;CN="TraMe Arte":MAILTO:trameartebrescia@gmail.com
END:VEVENT
END:VCALENDAR