BEGIN:VCALENDAR
VERSION:2.0
PRODID:-//TraMe Arte di Beschi Chiara - ECPv6.15.20//NONSGML v1.0//EN
CALSCALE:GREGORIAN
METHOD:PUBLISH
X-WR-CALNAME:TraMe Arte di Beschi Chiara
X-ORIGINAL-URL:https://www.tramearte.it
X-WR-CALDESC:Eventi per TraMe Arte di Beschi Chiara
REFRESH-INTERVAL;VALUE=DURATION:PT1H
X-Robots-Tag:noindex
X-PUBLISHED-TTL:PT1H
BEGIN:VTIMEZONE
TZID:Europe/Rome
BEGIN:DAYLIGHT
TZOFFSETFROM:+0100
TZOFFSETTO:+0200
TZNAME:CEST
DTSTART:20250330T010000
END:DAYLIGHT
BEGIN:STANDARD
TZOFFSETFROM:+0200
TZOFFSETTO:+0100
TZNAME:CET
DTSTART:20251026T010000
END:STANDARD
BEGIN:DAYLIGHT
TZOFFSETFROM:+0100
TZOFFSETTO:+0200
TZNAME:CEST
DTSTART:20260329T010000
END:DAYLIGHT
BEGIN:STANDARD
TZOFFSETFROM:+0200
TZOFFSETTO:+0100
TZNAME:CET
DTSTART:20261025T010000
END:STANDARD
BEGIN:DAYLIGHT
TZOFFSETFROM:+0100
TZOFFSETTO:+0200
TZNAME:CEST
DTSTART:20270328T010000
END:DAYLIGHT
BEGIN:STANDARD
TZOFFSETFROM:+0200
TZOFFSETTO:+0100
TZNAME:CET
DTSTART:20271031T010000
END:STANDARD
END:VTIMEZONE
BEGIN:VEVENT
DTSTART;TZID=Europe/Rome:20260307T100000
DTEND;TZID=Europe/Rome:20260307T110000
DTSTAMP:20260420T180731
CREATED:20251223T142556Z
LAST-MODIFIED:20260105T081042Z
UID:27418-1772877600-1772881200@www.tramearte.it
SUMMARY:DECO LAB - Speciale Festa del Papà - Per un papà a tutta birra!
DESCRIPTION:Un laboratorio creativo speciale pensato per i bambini\, dedicato ai papà e al piacere di fare un regalo unico con le proprie mani. \nDurante il Deco Lab del mattino\, ogni bambino decorerà un boccale di birra in ceramica da regalare al proprio papà: un oggetto divertente\, affettuoso e personalissimo. \nCon pennelli\, colori e tanta fantasia\, i partecipanti potranno aggiungere disegni\, scritte\, dediche\, cuori\, baffi\, sorrisi o messaggi speciali\, trasformando il boccale in un vero pezzo unico. L’attività è guidata passo dopo passo ed è adatta a tutti\, anche a chi non ha mai dipinto su ceramica. \nIl boccale verrà poi smaltato e cotto\, pronto per essere usato o conservato come ricordo prezioso. \nUn laboratorio che unisce creatività\, emozione e gioco\, per dire “Papà\, questo è per te”… a tutta birra! 💙🍻
URL:https://www.tramearte.it/iscrizione-corso/deco-lab-per-un-papa-a-tutta-birra/
LOCATION:La Bottega di TraMe Arte\, via Nicolò Tommaseo\, 30/32\, Brescia\, 25128\, Italia
CATEGORIES:Deco Open Lab
ATTACH;FMTTYPE=image/jpeg:https://www.tramearte.it/wp-content/uploads/2025/12/IMG_20220311_184244-scaled-e1766499883618.jpg
ORGANIZER;CN="TraMe Arte":MAILTO:trameartebrescia@gmail.com
END:VEVENT
BEGIN:VEVENT
DTSTART;TZID=Europe/Rome:20260307T163000
DTEND;TZID=Europe/Rome:20260307T173000
DTSTAMP:20260420T180731
CREATED:20251223T142745Z
LAST-MODIFIED:20260105T081017Z
UID:27423-1772901000-1772904600@www.tramearte.it
SUMMARY:DECO LAB - Speciale Festa del Papà -  Per un papà a tutta birra! (Pomeriggio)
DESCRIPTION:Un laboratorio creativo speciale pensato per i bambini\, dedicato ai papà e al piacere di fare un regalo unico con le proprie mani. \nDurante il Deco Lab del mattino\, ogni bambino decorerà un boccale di birra in ceramica da regalare al proprio papà: un oggetto divertente\, affettuoso e personalissimo. \nCon pennelli\, colori e tanta fantasia\, i partecipanti potranno aggiungere disegni\, scritte\, dediche\, cuori\, baffi\, sorrisi o messaggi speciali\, trasformando il boccale in un vero pezzo unico. L’attività è guidata passo dopo passo ed è adatta a tutti\, anche a chi non ha mai dipinto su ceramica. \nIl boccale verrà poi smaltato e cotto\, pronto per essere usato o conservato come ricordo prezioso. \nUn laboratorio che unisce creatività\, emozione e gioco\, per dire “Papà\, questo è per te”… a tutta birra! 💙🍻
URL:https://www.tramearte.it/iscrizione-corso/deco-lab-per-un-papa-a-tutta-birra-pomeriggio/
LOCATION:La Bottega di TraMe Arte\, via Nicolò Tommaseo\, 30/32\, Brescia\, 25128\, Italia
CATEGORIES:Deco Open Lab
ATTACH;FMTTYPE=image/jpeg:https://www.tramearte.it/wp-content/uploads/2025/12/IMG_20220311_184244-scaled-e1766499883618.jpg
ORGANIZER;CN="TraMe Arte":MAILTO:trameartebrescia@gmail.com
END:VEVENT
BEGIN:VEVENT
DTSTART;TZID=Europe/Rome:20260314T100000
DTEND;TZID=Europe/Rome:20260314T110000
DTSTAMP:20260420T180731
CREATED:20251223T151159Z
LAST-MODIFIED:20260302T103603Z
UID:27434-1773482400-1773486000@www.tramearte.it
SUMMARY:CERAMICA BIMBI - Coniglietto e carota
DESCRIPTION:Un laboratorio dolce e divertente pensato per i bambini\, dove le mani si sporcano di creta e la fantasia prende forma. \nDurante l’attività ogni bambino modellerà un piattino a forma di coniglietto\, completo di buffe orecchie e una simpatica carotina\, imparando passo dopo passo le basi della modellazione dell’argilla. \nAttraverso gesti semplici e guidati\, i piccoli artisti daranno vita al loro piattino personale\, stimolando manualità\, creatività e concentrazione\, in un clima rilassato e giocoso. \nAl termine\, il piattino verrà lasciato ad asciugare\, cotto e successivamente decorato (o smaltato)\, per diventare un oggetto unico\, perfetto come svuota-tasche\, piattino per la merenda o ricordo speciale fatto con le proprie mani. \n✨ Adatto anche a chi è alla prima esperienza \n🎨 Tutti i materiali sono inclusi \n🐇 Un’esperienza creativa tenera e primaverile\, pensata per divertirsi creando \nUn piccolo coniglietto\, una carotina e tanta soddisfazione nel portare a casa qualcosa di fatto davvero con il cuore. 💛
URL:https://www.tramearte.it/iscrizione-corso/ceramica-bimbi-coniglietto-e-carota-2/
LOCATION:La Bottega di TraMe Arte\, via Nicolò Tommaseo\, 30/32\, Brescia\, 25128\, Italia
CATEGORIES:Ceramica Bimbi
ATTACH;FMTTYPE=image/jpeg:https://www.tramearte.it/wp-content/uploads/2025/12/IMG_2918-1.jpeg
ORGANIZER;CN="TraMe Arte":MAILTO:trameartebrescia@gmail.com
END:VEVENT
BEGIN:VEVENT
DTSTART;TZID=Europe/Rome:20260314T163000
DTEND;TZID=Europe/Rome:20260314T173000
DTSTAMP:20260420T180731
CREATED:20251223T150101Z
LAST-MODIFIED:20260302T103520Z
UID:27430-1773505800-1773509400@www.tramearte.it
SUMMARY:CERAMICA BIMBI - Coniglietto e carota (pomeriggio)
DESCRIPTION:Un laboratorio dolce e divertente pensato per i bambini\, dove le mani si sporcano di creta e la fantasia prende forma. \nDurante l’attività ogni bambino modellerà un piattino a forma di coniglietto\, completo di buffe orecchie e una simpatica carotina\, imparando passo dopo passo le basi della modellazione dell’argilla. \nAttraverso gesti semplici e guidati\, i piccoli artisti daranno vita al loro piattino personale\, stimolando manualità\, creatività e concentrazione\, in un clima rilassato e giocoso. \nAl termine\, il piattino verrà lasciato ad asciugare\, cotto e successivamente decorato (o smaltato)\, per diventare un oggetto unico\, perfetto come svuota-tasche\, piattino per la merenda o ricordo speciale fatto con le proprie mani. \n✨ Adatto anche a chi è alla prima esperienza \n🎨 Tutti i materiali sono inclusi \n🐇 Un’esperienza creativa tenera e primaverile\, pensata per divertirsi creando \nUn piccolo coniglietto\, una carotina e tanta soddisfazione nel portare a casa qualcosa di fatto davvero con il cuore. 💛
URL:https://www.tramearte.it/iscrizione-corso/ceramica-bimbi-coniglietto-e-carota/
LOCATION:La Bottega di TraMe Arte\, via Nicolò Tommaseo\, 30/32\, Brescia\, 25128\, Italia
CATEGORIES:Ceramica Bimbi
ATTACH;FMTTYPE=image/jpeg:https://www.tramearte.it/wp-content/uploads/2025/12/IMG_2918-1.jpeg
ORGANIZER;CN="TraMe Arte":MAILTO:trameartebrescia@gmail.com
END:VEVENT
BEGIN:VEVENT
DTSTART;TZID=Europe/Rome:20260321T100000
DTEND;TZID=Europe/Rome:20260321T120000
DTSTAMP:20260420T180731
CREATED:20251223T152300Z
LAST-MODIFIED:20260105T081720Z
UID:27437-1774087200-1774094400@www.tramearte.it
SUMMARY:DECO LAB - il mio uovo di Pasqua
DESCRIPTION:Un laboratorio creativo e rilassante dedicato alla Pasqua\, in cui grandi e piccoli potranno decorare un uovo di Pasqua in ceramica grezzo\, trasformandolo in un pezzo unico e personale. \nTra colori\, pennelli e fantasia\, ogni partecipante sarà guidato passo dopo passo nella decorazione dell’uovo\, sperimentando tecniche semplici e accessibili a tutti. Non serve alcuna esperienza: il laboratorio è adatto a tutte le età\, dai bambini agli adulti\, ed è perfetto da vivere da soli\, in famiglia o insieme ai nonni. \nL’uovo decorato diventerà una decorazione pasquale speciale o un regalo fatto a mano\, carico di tempo condiviso e creatività. Un momento lento\, gioioso e inclusivo\, dove conta il piacere di creare insieme e lasciarsi ispirare. \n✨ Perché a Pasqua\, la bellezza nasce anche dalle mani che creano. \nAdulti: – costo 25€\nBambini: – costo 20€- Fratello/sorella sconto 5€
URL:https://www.tramearte.it/iscrizione-corso/deco-lab-il-mio-uovo-di-pasqua/
LOCATION:La Bottega di TraMe Arte\, via Nicolò Tommaseo\, 30/32\, Brescia\, 25128\, Italia
CATEGORIES:Deco Open Lab
ATTACH;FMTTYPE=image/jpeg:https://www.tramearte.it/wp-content/uploads/2025/12/IMG_2922-e1766503339656.jpeg
ORGANIZER;CN="TraMe Arte":MAILTO:trameartebrescia@gmail.com
END:VEVENT
BEGIN:VEVENT
DTSTART;TZID=Europe/Rome:20260321T160000
DTEND;TZID=Europe/Rome:20260321T180000
DTSTAMP:20260420T180731
CREATED:20251223T152743Z
LAST-MODIFIED:20260105T074309Z
UID:27440-1774108800-1774116000@www.tramearte.it
SUMMARY:DECO LAB - il mio uovo di Pasqua (pomeriggio)
DESCRIPTION:Un laboratorio creativo e rilassante dedicato alla Pasqua\, in cui grandi e piccoli potranno decorare un uovo di Pasqua in ceramica grezzo\, trasformandolo in un pezzo unico e personale. \nTra colori\, pennelli e fantasia\, ogni partecipante sarà guidato passo dopo passo nella decorazione dell’uovo\, sperimentando tecniche semplici e accessibili a tutti. Non serve alcuna esperienza: il laboratorio è adatto a tutte le età\, dai bambini agli adulti\, ed è perfetto da vivere da soli\, in famiglia o insieme ai nonni. \nL’uovo decorato diventerà una decorazione pasquale speciale o un regalo fatto a mano\, carico di tempo condiviso e creatività. Un momento lento\, gioioso e inclusivo\, dove conta il piacere di creare insieme e lasciarsi ispirare. \n✨ Perché a Pasqua\, la bellezza nasce anche dalle mani che creano. \nAdulti: – costo 25€\nBambini: – costo 20€- Fratello/sorella sconto 5€
URL:https://www.tramearte.it/iscrizione-corso/deco-lab-il-mio-uovo-di-pasqua-pomeriggio/
LOCATION:La Bottega di TraMe Arte\, via Nicolò Tommaseo\, 30/32\, Brescia\, 25128\, Italia
CATEGORIES:Deco Open Lab
ATTACH;FMTTYPE=image/jpeg:https://www.tramearte.it/wp-content/uploads/2025/12/IMG_2922-e1766503339656.jpeg
ORGANIZER;CN="TraMe Arte":MAILTO:trameartebrescia@gmail.com
END:VEVENT
BEGIN:VEVENT
DTSTART;TZID=Europe/Rome:20260328T100000
DTEND;TZID=Europe/Rome:20260328T120000
DTSTAMP:20260420T180731
CREATED:20251223T141314Z
LAST-MODIFIED:20260105T074302Z
UID:27414-1774692000-1774699200@www.tramearte.it
SUMMARY:Ceramica Week End - turno mattino
DESCRIPTION:Ceramica Week End è la nuova formula del nostro Open Lab\, pensata per chi riesce a ritagliarsi tempo creativo solo nel fine settimana. \nUn’intera giornata dedicata alla scoperta del meraviglioso mondo della ceramica\, per muovere i primi passi tra argilla\, mani e immaginazione. \nDurante l’esperienza potrai sperimentare\, creare e imparare\, guidato passo dopo passo dal nostro team: partirai da un semplice panetto di argilla per realizzare da zero il tuo manufatto\, vivendo il piacere del fare con calma e consapevolezza. \nPotrai prenotare la tua postazione nel turno che preferisci: \n🕙 10.00 – 12.00\n🕓 16.00 – 18.00 \nLa giornata è adatta sia agli adulti che ai bambini dai 4 anni\, purché accompagnati da un adulto\, per un’esperienza da condividere insieme tra creatività\, gioco e manualità. \nUn weekend diverso dal solito\, dove il tempo rallenta e le mani raccontano storie. \n✨ Ti aspettiamo per creare insieme.
URL:https://www.tramearte.it/iscrizione-corso/ceramica-week-end-turno-mattino-3/
LOCATION:La Bottega di TraMe Arte\, via Nicolò Tommaseo\, 30/32\, Brescia\, 25128\, Italia
CATEGORIES:Ceramica for Week End
ATTACH;FMTTYPE=image/jpeg:https://www.tramearte.it/wp-content/uploads/2020/03/IMG_20200222_105848-scaled-e1723813454332.jpg
ORGANIZER;CN="TraMe Arte":MAILTO:trameartebrescia@gmail.com
END:VEVENT
BEGIN:VEVENT
DTSTART;TZID=Europe/Rome:20260328T160000
DTEND;TZID=Europe/Rome:20260328T180000
DTSTAMP:20260420T180731
CREATED:20251223T141411Z
LAST-MODIFIED:20260105T074256Z
UID:27416-1774713600-1774720800@www.tramearte.it
SUMMARY:Ceramica Week End - turno pomeriggio
DESCRIPTION:Ceramica Week End è la nuova formula del nostro Open Lab\, pensata per chi riesce a ritagliarsi tempo creativo solo nel fine settimana. \nUn’intera giornata dedicata alla scoperta del meraviglioso mondo della ceramica\, per muovere i primi passi tra argilla\, mani e immaginazione. \nDurante l’esperienza potrai sperimentare\, creare e imparare\, guidato passo dopo passo dal nostro team: partirai da un semplice panetto di argilla per realizzare da zero il tuo manufatto\, vivendo il piacere del fare con calma e consapevolezza. \nPotrai prenotare la tua postazione nel turno che preferisci: \n🕙 10.00 – 12.00\n🕓 16.00 – 18.00 \nLa giornata è adatta sia agli adulti che ai bambini dai 4 anni\, purché accompagnati da un adulto\, per un’esperienza da condividere insieme tra creatività\, gioco e manualità. \nUn weekend diverso dal solito\, dove il tempo rallenta e le mani raccontano storie. \n✨ Ti aspettiamo per creare insieme.
URL:https://www.tramearte.it/iscrizione-corso/ceramica-week-end-turno-pomeriggio-7/
LOCATION:La Bottega di TraMe Arte\, via Nicolò Tommaseo\, 30/32\, Brescia\, 25128\, Italia
CATEGORIES:Ceramica for Week End
ATTACH;FMTTYPE=image/jpeg:https://www.tramearte.it/wp-content/uploads/2020/03/IMG_20200222_105848-scaled-e1723813454332.jpg
ORGANIZER;CN="TraMe Arte":MAILTO:trameartebrescia@gmail.com
END:VEVENT
END:VCALENDAR