BEGIN:VCALENDAR
VERSION:2.0
PRODID:-//TraMe Arte di Beschi Chiara - ECPv6.15.20//NONSGML v1.0//EN
CALSCALE:GREGORIAN
METHOD:PUBLISH
X-ORIGINAL-URL:https://www.tramearte.it
X-WR-CALDESC:Eventi per TraMe Arte di Beschi Chiara
REFRESH-INTERVAL;VALUE=DURATION:PT1H
X-Robots-Tag:noindex
X-PUBLISHED-TTL:PT1H
BEGIN:VTIMEZONE
TZID:Europe/Rome
BEGIN:DAYLIGHT
TZOFFSETFROM:+0100
TZOFFSETTO:+0200
TZNAME:CEST
DTSTART:20250330T010000
END:DAYLIGHT
BEGIN:STANDARD
TZOFFSETFROM:+0200
TZOFFSETTO:+0100
TZNAME:CET
DTSTART:20251026T010000
END:STANDARD
BEGIN:DAYLIGHT
TZOFFSETFROM:+0100
TZOFFSETTO:+0200
TZNAME:CEST
DTSTART:20260329T010000
END:DAYLIGHT
BEGIN:STANDARD
TZOFFSETFROM:+0200
TZOFFSETTO:+0100
TZNAME:CET
DTSTART:20261025T010000
END:STANDARD
BEGIN:DAYLIGHT
TZOFFSETFROM:+0100
TZOFFSETTO:+0200
TZNAME:CEST
DTSTART:20270328T010000
END:DAYLIGHT
BEGIN:STANDARD
TZOFFSETFROM:+0200
TZOFFSETTO:+0100
TZNAME:CET
DTSTART:20271031T010000
END:STANDARD
END:VTIMEZONE
BEGIN:VEVENT
DTSTART;TZID=Europe/Rome:20260509T100000
DTEND;TZID=Europe/Rome:20260509T110000
DTSTAMP:20260420T181553
CREATED:20251223T161506Z
LAST-MODIFIED:20260105T074217Z
UID:27454-1778320800-1778324400@www.tramearte.it
SUMMARY:CERAMICA BIMBI - Speciale Festa della Mamma - Il nostro porta foto del cuore
DESCRIPTION:Un laboratorio emozionante e creativo pensato per mamme e figli\, dove le mani modellano e il cuore conserva i ricordi. Durante l’incontro\, i partecipanti realizzeranno un porta foto in creta formato Polaroid\, partendo da un panetto di argilla e imparando semplici tecniche di modellazione guidate passo dopo passo. \nForme\, piccoli dettagli\, texture e decorazioni renderanno ogni porta foto unico e personale\, pronto ad accogliere un’immagine speciale. Ed è proprio durante il laboratorio che verrà scattata una foto ricordo mamma e figli\, che una volta stampata troverà posto nella creazione in ceramica\, trasformandola in un oggetto carico di significato. \nIl laboratorio è adatto a tutte le età\, anche a chi non ha mai lavorato la creta. Un’esperienza lenta\, affettuosa e inclusiva\, dove creatività e relazione si intrecciano\, dando vita a un oggetto che custodisce un momento prezioso da portare a casa e tenere nel tempo 🤍 \nNel laboratorio è compresa anche la fotografia istantanea! \nCosto: 25€ mamma+5€ x figli0/a (sarà possibile creare anche due porta foto se parteciperanno + figli) \n 
URL:https://www.tramearte.it/iscrizione-corso/ceramica-bimbi-il-nostro-porta-foto-del-cuore/
LOCATION:La Bottega di TraMe Arte\, via Nicolò Tommaseo\, 30/32\, Brescia\, 25128\, Italia
ATTACH;FMTTYPE=image/jpeg:https://www.tramearte.it/wp-content/uploads/2025/12/IMG_2908-e1766506265777.jpeg
ORGANIZER;CN="TraMe Arte":MAILTO:trameartebrescia@gmail.com
END:VEVENT
BEGIN:VEVENT
DTSTART;TZID=Europe/Rome:20260509T163000
DTEND;TZID=Europe/Rome:20260509T173000
DTSTAMP:20260420T181553
CREATED:20251223T161708Z
LAST-MODIFIED:20260105T074209Z
UID:27457-1778344200-1778347800@www.tramearte.it
SUMMARY:CERAMICA BIMBI - Speciale Festa della Mamma - Il nostro porta foto del cuore (pomeriggio)
DESCRIPTION:Un laboratorio emozionante e creativo pensato per mamme e figli\, dove le mani modellano e il cuore conserva i ricordi. Durante l’incontro\, i partecipanti realizzeranno un porta foto in creta formato Polaroid\, partendo da un panetto di argilla e imparando semplici tecniche di modellazione guidate passo dopo passo. \nForme\, piccoli dettagli\, texture e decorazioni renderanno ogni porta foto unico e personale\, pronto ad accogliere un’immagine speciale. Ed è proprio durante il laboratorio che verrà scattata una foto ricordo mamma e figli\, che una volta stampata troverà posto nella creazione in ceramica\, trasformandola in un oggetto carico di significato. \nIl laboratorio è adatto a tutte le età\, anche a chi non ha mai lavorato la creta. Un’esperienza lenta\, affettuosa e inclusiva\, dove creatività e relazione si intrecciano\, dando vita a un oggetto che custodisce un momento prezioso da portare a casa e tenere nel tempo 🤍 \nNel laboratorio è compresa anche la fotografia istantanea! \nCosto: 25€ mamma+5€ x figli0/a (sarà possibile creare anche due porta foto se parteciperanno + figli)
URL:https://www.tramearte.it/iscrizione-corso/ceramica-bimbi-il-nostro-porta-foto-del-cuore-pomeriggio/
LOCATION:La Bottega di TraMe Arte\, via Nicolò Tommaseo\, 30/32\, Brescia\, 25128\, Italia
ATTACH;FMTTYPE=image/jpeg:https://www.tramearte.it/wp-content/uploads/2025/12/IMG_2908-e1766506265777.jpeg
ORGANIZER;CN="TraMe Arte":MAILTO:trameartebrescia@gmail.com
END:VEVENT
BEGIN:VEVENT
DTSTART;TZID=Europe/Rome:20260516T100000
DTEND;TZID=Europe/Rome:20260516T110000
DTSTAMP:20260420T181553
CREATED:20251223T162610Z
LAST-MODIFIED:20260105T074125Z
UID:27459-1778925600-1778929200@www.tramearte.it
SUMMARY:CERAMICA LAB - il mio vaso cactus
DESCRIPTION:Un laboratorio creativo e divertente in cui la creta prende vita trasformandosi in un vaso a forma di cactus\, ironico\, decorativo e perfetto per portare un tocco di verde (anche senza pollice verde!) in casa. \nDurante il laboratorio i partecipanti modelleranno l’argilla partendo da forme semplici\, imparando tecniche base di modellazione per costruire il corpo del cactus\, aggiungere rilievi\, spine stilizzate e piccoli dettagli espressivi. Ogni vaso sarà unico: più realistico o più fantasioso\, minimale o super decorato\, lasciando spazio alla personalità di chi lo crea. \nIl laboratorio è adatto a tutte le età e non richiede esperienza: si lavora con calma\, guidati passo dopo passo\, in un clima rilassato e giocoso. Un’esperienza che unisce manualità\, creatività e sorriso\, dando vita a un oggetto fatto a mano da usare o regalare\, capace di raccontare il piacere di creare con le proprie mani 🌵✨ \nAdulti: – costo 25€\nBambini: – costo 20€- Fratello/sorella sconto 5€
URL:https://www.tramearte.it/iscrizione-corso/ceramica-lab-il-mio-vaso-cactus/
LOCATION:La Bottega di TraMe Arte\, via Nicolò Tommaseo\, 30/32\, Brescia\, 25128\, Italia
ATTACH;FMTTYPE=image/jpeg:https://www.tramearte.it/wp-content/uploads/2025/12/IMG_2926-e1766506993339.jpeg
ORGANIZER;CN="TraMe Arte":MAILTO:trameartebrescia@gmail.com
END:VEVENT
BEGIN:VEVENT
DTSTART;TZID=Europe/Rome:20260516T163000
DTEND;TZID=Europe/Rome:20260516T173000
DTSTAMP:20260420T181553
CREATED:20251223T162742Z
LAST-MODIFIED:20260105T074125Z
UID:27462-1778949000-1778952600@www.tramearte.it
SUMMARY:CERAMICA LAB - il mio vaso cactus (pomeriggio)
DESCRIPTION:Un laboratorio creativo e divertente in cui la creta prende vita trasformandosi in un vaso a forma di cactus\, ironico\, decorativo e perfetto per portare un tocco di verde (anche senza pollice verde!) in casa. \nDurante il laboratorio i partecipanti modelleranno l’argilla partendo da forme semplici\, imparando tecniche base di modellazione per costruire il corpo del cactus\, aggiungere rilievi\, spine stilizzate e piccoli dettagli espressivi. Ogni vaso sarà unico: più realistico o più fantasioso\, minimale o super decorato\, lasciando spazio alla personalità di chi lo crea. \nIl laboratorio è adatto a tutte le età e non richiede esperienza: si lavora con calma\, guidati passo dopo passo\, in un clima rilassato e giocoso. Un’esperienza che unisce manualità\, creatività e sorriso\, dando vita a un oggetto fatto a mano da usare o regalare\, capace di raccontare il piacere di creare con le proprie mani 🌵✨ \nAdulti: – costo 25€\nBambini: – costo 20€- Fratello/sorella sconto 5€
URL:https://www.tramearte.it/iscrizione-corso/ceramica-lab-il-mio-vaso-cactus-pomeriggio/
LOCATION:La Bottega di TraMe Arte\, via Nicolò Tommaseo\, 30/32\, Brescia\, 25128\, Italia
CATEGORIES:Ceramica for Week End
ATTACH;FMTTYPE=image/jpeg:https://www.tramearte.it/wp-content/uploads/2025/12/IMG_2926-e1766506993339.jpeg
ORGANIZER;CN="TraMe Arte":MAILTO:trameartebrescia@gmail.com
END:VEVENT
BEGIN:VEVENT
DTSTART;TZID=Europe/Rome:20260523T100000
DTEND;TZID=Europe/Rome:20260523T120000
DTSTAMP:20260420T181553
CREATED:20251223T163550Z
LAST-MODIFIED:20260105T074157Z
UID:27464-1779530400-1779537600@www.tramearte.it
SUMMARY:DECO LAB - dipingi la qualunque
DESCRIPTION:Un laboratorio aperto\, creativo e senza schemi\, in cui la protagonista è la libertà di espressione. In questo incontro di decorazione su ceramica potrai scegliere liberamente cosa decorare – piatti\, tazze\, piastrelle\, piccoli oggetti – e trasformare un manufatto grezzo in un pezzo unico che ti rappresenta. \nTra colori\, pennelli e ispirazioni\, sarai guidato passo dopo passo nell’uso dei materiali e delle tecniche di base\, ma senza vincoli: potrai sperimentare\, cambiare idea\, seguire l’istinto o un tema personale. Il laboratorio è adatto a tutte le età\, anche a chi non ha mai decorato la ceramica o pensa di “non saper disegnare”. \nUn tempo lento e accogliente\, in cui creare diventa un gesto di benessere e condivisione. Perché quando non ci sono regole\, nascono le idee più autentiche ✨ \nAdulti: – costo 25€\nBambini: – costo 20€- Fratello/sorella sconto 5€
URL:https://www.tramearte.it/iscrizione-corso/deco-lab-dipingi-la-qualunque/
LOCATION:La Bottega di TraMe Arte\, via Nicolò Tommaseo\, 30/32\, Brescia\, 25128\, Italia
CATEGORIES:Deco Open Lab
ATTACH;FMTTYPE=image/heic:https://www.tramearte.it/wp-content/uploads/2025/12/IMG_2249.heic
ORGANIZER;CN="TraMe Arte":MAILTO:trameartebrescia@gmail.com
END:VEVENT
BEGIN:VEVENT
DTSTART;TZID=Europe/Rome:20260523T160000
DTEND;TZID=Europe/Rome:20260523T180000
DTSTAMP:20260420T181554
CREATED:20251223T163803Z
LAST-MODIFIED:20260105T074148Z
UID:27466-1779552000-1779559200@www.tramearte.it
SUMMARY:DECO LAB - dipingi la qualunque (pomeriggio)
DESCRIPTION:Un laboratorio aperto\, creativo e senza schemi\, in cui la protagonista è la libertà di espressione. In questo incontro di decorazione su ceramica potrai scegliere liberamente cosa decorare – piatti\, tazze\, piastrelle\, piccoli oggetti – e trasformare un manufatto grezzo in un pezzo unico che ti rappresenta. \nTra colori\, pennelli e ispirazioni\, sarai guidato passo dopo passo nell’uso dei materiali e delle tecniche di base\, ma senza vincoli: potrai sperimentare\, cambiare idea\, seguire l’istinto o un tema personale. Il laboratorio è adatto a tutte le età\, anche a chi non ha mai decorato la ceramica o pensa di “non saper disegnare”. \nUn tempo lento e accogliente\, in cui creare diventa un gesto di benessere e condivisione. Perché quando non ci sono regole\, nascono le idee più autentiche ✨ \nAdulti: – costo 25€\nBambini: – costo 20€- Fratello/sorella sconto 5€
URL:https://www.tramearte.it/iscrizione-corso/deco-lab-dipingi-la-qualunque-pomeriggio/
LOCATION:La Bottega di TraMe Arte\, via Nicolò Tommaseo\, 30/32\, Brescia\, 25128\, Italia
CATEGORIES:Deco Open Lab
ATTACH;FMTTYPE=image/heic:https://www.tramearte.it/wp-content/uploads/2025/12/IMG_2249.heic
ORGANIZER;CN="TraMe Arte":MAILTO:trameartebrescia@gmail.com
END:VEVENT
BEGIN:VEVENT
DTSTART;TZID=Europe/Rome:20260530T100000
DTEND;TZID=Europe/Rome:20260530T120000
DTSTAMP:20260420T181554
CREATED:20251223T203048Z
LAST-MODIFIED:20260105T074141Z
UID:27468-1780135200-1780142400@www.tramearte.it
SUMMARY:Ceramica Week End - turno mattino
DESCRIPTION:Ceramica Week End è la nuova formula del nostro Open Lab\, pensata per chi riesce a ritagliarsi tempo creativo solo nel fine settimana. \nUn’intera giornata dedicata alla scoperta del meraviglioso mondo della ceramica\, per muovere i primi passi tra argilla\, mani e immaginazione. \nDurante l’esperienza potrai sperimentare\, creare e imparare\, guidato passo dopo passo dal nostro team: partirai da un semplice panetto di argilla per realizzare da zero il tuo manufatto\, vivendo il piacere del fare con calma e consapevolezza. \nPotrai prenotare la tua postazione nel turno che preferisci: \n🕙 10.00 – 12.00\n🕓 16.00 – 18.00 \nLa giornata è adatta sia agli adulti che ai bambini dai 4 anni\, purché accompagnati da un adulto\, per un’esperienza da condividere insieme tra creatività\, gioco e manualità. \nUn weekend diverso dal solito\, dove il tempo rallenta e le mani raccontano storie. \n✨ Ti aspettiamo per creare insieme.
URL:https://www.tramearte.it/iscrizione-corso/ceramica-week-end-turno-mattino-4/
LOCATION:La Bottega di TraMe Arte\, via Nicolò Tommaseo\, 30/32\, Brescia\, 25128\, Italia
CATEGORIES:Ceramica for Week End
ATTACH;FMTTYPE=image/jpeg:https://www.tramearte.it/wp-content/uploads/2020/03/IMG_20200222_105848-scaled-e1723813454332.jpg
ORGANIZER;CN="TraMe Arte":MAILTO:trameartebrescia@gmail.com
END:VEVENT
BEGIN:VEVENT
DTSTART;TZID=Europe/Rome:20260530T160000
DTEND;TZID=Europe/Rome:20260530T180000
DTSTAMP:20260420T181554
CREATED:20251223T203157Z
LAST-MODIFIED:20260105T074125Z
UID:27470-1780156800-1780164000@www.tramearte.it
SUMMARY:Ceramica Week End - turno pomeriggio
DESCRIPTION:Ceramica Week End è la nuova formula del nostro Open Lab\, pensata per chi riesce a ritagliarsi tempo creativo solo nel fine settimana. \nUn’intera giornata dedicata alla scoperta del meraviglioso mondo della ceramica\, per muovere i primi passi tra argilla\, mani e immaginazione. \nDurante l’esperienza potrai sperimentare\, creare e imparare\, guidato passo dopo passo dal nostro team: partirai da un semplice panetto di argilla per realizzare da zero il tuo manufatto\, vivendo il piacere del fare con calma e consapevolezza. \nPotrai prenotare la tua postazione nel turno che preferisci: \n🕙 10.00 – 12.00\n🕓 16.00 – 18.00 \nLa giornata è adatta sia agli adulti che ai bambini dai 4 anni\, purché accompagnati da un adulto\, per un’esperienza da condividere insieme tra creatività\, gioco e manualità. \nUn weekend diverso dal solito\, dove il tempo rallenta e le mani raccontano storie. \n✨ Ti aspettiamo per creare insieme.
URL:https://www.tramearte.it/iscrizione-corso/ceramica-week-end-turno-pomeriggio-8/
LOCATION:La Bottega di TraMe Arte\, via Nicolò Tommaseo\, 30/32\, Brescia\, 25128\, Italia
CATEGORIES:Ceramica for Week End
ATTACH;FMTTYPE=image/jpeg:https://www.tramearte.it/wp-content/uploads/2020/03/IMG_20200222_105848-scaled-e1723813454332.jpg
ORGANIZER;CN="TraMe Arte":MAILTO:trameartebrescia@gmail.com
END:VEVENT
END:VCALENDAR