BEGIN:VCALENDAR
VERSION:2.0
PRODID:-//TraMe Arte di Beschi Chiara - ECPv6.15.20//NONSGML v1.0//EN
CALSCALE:GREGORIAN
METHOD:PUBLISH
X-ORIGINAL-URL:https://www.tramearte.it
X-WR-CALDESC:Eventi per TraMe Arte di Beschi Chiara
REFRESH-INTERVAL;VALUE=DURATION:PT1H
X-Robots-Tag:noindex
X-PUBLISHED-TTL:PT1H
BEGIN:VTIMEZONE
TZID:Europe/Rome
BEGIN:DAYLIGHT
TZOFFSETFROM:+0100
TZOFFSETTO:+0200
TZNAME:CEST
DTSTART:20250330T010000
END:DAYLIGHT
BEGIN:STANDARD
TZOFFSETFROM:+0200
TZOFFSETTO:+0100
TZNAME:CET
DTSTART:20251026T010000
END:STANDARD
BEGIN:DAYLIGHT
TZOFFSETFROM:+0100
TZOFFSETTO:+0200
TZNAME:CEST
DTSTART:20260329T010000
END:DAYLIGHT
BEGIN:STANDARD
TZOFFSETFROM:+0200
TZOFFSETTO:+0100
TZNAME:CET
DTSTART:20261025T010000
END:STANDARD
BEGIN:DAYLIGHT
TZOFFSETFROM:+0100
TZOFFSETTO:+0200
TZNAME:CEST
DTSTART:20270328T010000
END:DAYLIGHT
BEGIN:STANDARD
TZOFFSETFROM:+0200
TZOFFSETTO:+0100
TZNAME:CET
DTSTART:20271031T010000
END:STANDARD
END:VTIMEZONE
BEGIN:VEVENT
DTSTART;TZID=Europe/Rome:20260831T090000
DTEND;TZID=Europe/Rome:20260904T160000
DTSTAMP:20260420T230149
CREATED:20260407T133636Z
LAST-MODIFIED:20260407T133636Z
UID:27575-1788166800-1788537600@www.tramearte.it
SUMMARY:Summer Camp - TraMe Orto - 3^ SETTIMANA
DESCRIPTION:3^ edizione Summer Camp TraMe ORTO – PER BAMBINI DAI 6 AI 12 ANNI \nIL CENTRO ESTIVO SI TERRÀ’ PRESSO L’AZIENDA AGRICOLA CASA PEDRINI (via Fiume\, 10 – Collebeato (Brescia) \nI protagonisti saranno la natura e il riciclo creativo\, alterneremo attività artistiche e altre legate al mondo di Casa Pedrini come la raccolta di frutta e ortaggi\, l’utilizzo di elementi della natura per creare oggetti e piccole opere d’arte e artigianato. \nORARIO GIORNATA 9-16 \nGiornata tipo (gli orari sono puramente indicativi per quanto riguarda le attività svolte \ndurante la giornata- restano invariati quelli dell’accoglienza e saluti) \nOre 8.30-9 accoglienza \nOre 9-10 prima parte attività ricreativa \nOre 10.15 merenda \nOre 10.30-11.30 seconda parte attività ricreativa \nOre 11.30 pulizia zona ricreativa \nOre 12 preparazione tavoli per il pranzo/gioco libero \nOre 12.30-13.30 pranzo+ pulizia zona pranzo e stoviglie \nOre 13.30-15 tra arte e relax (carte\, giochi In scatola\, disegno\, gioco libero- \npalla bollata) \nOre 15-16 merenda e saluti! \nPer una garantire una maggiore qualità delle attività svolte abbiamo scelto di accogliere un numero limitato di bambini. Gruppo massimo di 10-15 bambini. \nOPZIONI COSTI: \n\nGIORNATA INTERA dalle 9 entro le 16\nCOSTO: 160€ a settimana a bambino + 6€ al giorno per pranzo (il pranzo è porzionato composto da Piatto unico\, Contorno\, Pane. Porzionato significa che verrà diviso al momento per evitare sprechi) – Fratelli/Sorelle 150€\n1/2 GIORNATA dalle 9 entro le 14\nCOSTO: 110€ a settimana + 6€ al giorno per pranzo ( il pranzo è porzionato composto da Piatto unico\, Contorno\, Pane. Porzionato significa che verrà diviso al momento per evitare sprechi) – Fratelli/Sorelle 150€\nSINGOLA GIORNATA\n40€ a bambino – Fratelli/Sorelle 30€\n\nLa quota del pranzo è facoltativa. In alternativa i bambini possono essere dotati di pranzo al sacco.
URL:https://www.tramearte.it/iscrizione-corso/summer-camp-trame-orto-3-settimana/
LOCATION:Azienda Agricola Casa Pedrini\, Via Fiume\, 10\, Brescia\, 25060\, Italia
CATEGORIES:Centro Estivo
ATTACH;FMTTYPE=image/png:https://www.tramearte.it/wp-content/uploads/2026/04/27BAD094-5223-4056-9532-BA0A6EE85966.png
ORGANIZER;CN="TraMe Arte":MAILTO:trameartebrescia@gmail.com
END:VEVENT
END:VCALENDAR